Workbook

Sheet Category I.
A1: FELIS HUNGARICA
A2: International winner - Category I. | C2: 2025
E5: Exhibition
A6: Cat | E6: Övek 25.03.01 | G6: Övek 25.03.02 | I6: Zilina 25.04.26 | K6: Zilina 25.04.27 | M6: Övek 25.09.06 | O6: Övek 25.09.07 | Q6: BB 25.10.11 | S6: BB 25.10.12 | U6: WS 25.10.26 | W6: Bp. 2025.12.06 | Y6: Bp. 2024.12.15 | AA6: Total
A7: Name | B7: Reg. Nr | C7: Owner | D7: EMS | E7: Result | F7: Point | G7: Result | H7: Point | I7: Result | J7: Point | K7: Result | L7: Point | M7: Result | N7: Point | O7: Result | P7: Point | Q7: Result | R7: Point | S7: Result | T7: Point | U7: Result | V7: Point | W7: Result | X7: Point | Y7: Result | Z7: Point
A9: Adults
A10: S*Northern Ewonder's Agent 007 | C10: Yvonne & Elisabeth Suchan | D10: SBI c 21 | E10: NOM, BIS | F10: =20+10 -> 30 | G10: NOM, BIS | H10: =20+10 -> 30 | AA10: =SUM(E10:Z10) -> 60
A11: Mirabella vom Blütengarten | C11: Yvonne & Elisabeth Suchan | D11: SBI b | M11: NOM, BIS | N11: =20+10 -> 30 | O11: NOM, BIS | P11: =20+10 -> 30 | AA11: =SUM(E11:Z11) -> 60
A12: FI*Mimosan Atomic War | C12: Katarína Báliková | D12: PER n | I12: NOM | J12: 20 | K12: NOM, BIS | L12: =20+10 -> 30 | AA12: =SUM(E12:Z12) -> 50
AA13: =SUM(E13:Z13) -> 0
A16: Neuters
A17: Gavroche Thénadier Fabiosson of Black Star*SK | C17: Romana Báliková | D17: EXO d 03 22 | I17: NOM | J17: 20 | K17: NOM | L17: 20 | Q17: NOM, BIS | R17: =20+10 -> 30 | S17: NOM, BIS | T17: =20+10 -> 30 | U17: NOM | V17: 20 | AA17: =SUM(E17:Z17) -> 120
AA18: =SUM(E18:Z18) -> 0
A21: Kitten+Junior
A22: Johnie Walker by Black Star | C22: Katarína + Romana Báliková | D22: PER n 03 | Q22: NOM, BIS | R22: =20+10 -> 30 | S22: NOM, BIS | T22: =20+10 -> 30 | AA22: =SUM(E22:Z22) -> 60
AA23: =SUM(E23:Z23) -> 0
AA24: =SUM(E24:Z24) -> 0
A27: IW
A28: NOM | B28: 20
A29: BIS | B29: 10

Sheet Category II. 
A1: FELIS HUNGARICA
A2: International winner - Category II. | C2: ='Category I.'!C2 -> 2025
E5: Exhibition
A6: Cat | E6: Vinicne 2025.02.08 | G6: Vinicne 2025.02.09 | I6: Övek 25.03.01 | K6: Övek 25.03.02 | M6: Zilina, 25.04.26 | O6: Zilina, 25.04.27 | Q6: CSCH 25.06.08 | S6: CSCH 25.06.08 | U6: CSCH 25.06.14 | W6: CSCH 25.06.15 | Y6: ÖVEK 25.09.06 | AA6: ÖVEK 25.09.07 | AC6: Vinicne 25.09.20 | AE6: Vinicne 25.09.21 | AG6: Brno 25.11.15 | AI6: Brno 25.11.16 | AK6: Total
A7: Name | B7: Reg. Nr | C7: Owner | D7: EMS | E7: Result | F7: Point | G7: Result | H7: Point | I7: Result | J7: Point | K7: Result | L7: Point | M7: Result | N7: Point | O7: Result | P7: Point | Q7: Result | R7: Point | S7: Result | T7: Point | U7: Result | V7: Point | W7: Result | X7: Point | Y7: Result | Z7: Point | AA7: Result | AB7: Point | AC7: Result | AD7: Point | AE7: Result | AF7: Point | AG7: Result | AH7: Point | AI7: Result | AJ7: Point
A9: Adults
A10: A Flashpaw's Piu Bella Cosa | C10: Claudia Haslinger | D10: MCO g 09 | G10: NOM | H10: 20 | AK10: =SUM(E10:AJ10) -> 20
A11: A Flashpaw's Una Storia Importante | C11: Claudia Haslinger | D11: MCO f 09 25 | M11: NOM | N11: 20 | O11: NOM | P11: 20 | AK11: =SUM(E11:AJ11) -> 40
A12: A Flashpaw's Un Emozione per Sempre | C12: Claudia Haslinger | D12: MCO n 09 22 | AE12: NOM | AF12: 20 | AK12: =SUM(E12:AJ12) -> 20
A13: Cleopatra vom Heidenturm*AT | C13: Petra Schöpf | D13: MCO fs 22 | AA13: NOM | AB13: 20 | AC13: NOM | AD13: 20 | AK13: =SUM(E13:AJ13) -> 40
A14: A Flashpaw's Sexbomb | C14: Claudia Haslinger | D14: MCO w 62 | M14: NOM | N14: 20 | O14: NOM | P14: 20 | AK14: =SUM(E14:AJ14) -> 40
A17: Neuters
A18: A Flashpaw's Principessa | C18: Claudia Haslinger | D18: MCO n 09 22 | E18: NOM | F18: 20 | G18: NOM | H18: 20 | M18: NOM | N18: 20 | O18: NOM | P18: 20 | Q18: NOM | R18: 20 | AC18: NOM | AD18: 20 | AE18: NOM, BIS | AF18: =20+10 -> 30 | AK18: =SUM(E18:AJ18) -> 150
A19: High Fashion de Roissy Royal | C19: Claudia Haslinger | D19: MCO fs 09 22 | E19: NOM, BIS | F19: =20+10 -> 30 | G19: NOM, BIS | H19: =20+10 -> 30 | I19: NOM, BIS | J19: =20+10 -> 30 | K19: NOM, BIS | L19: =20+10 -> 30 | M19: NOM | N19: 20 | O19: NOM, BIS | P19: =20+10 -> 30 | Q19: NOM, BIS | R19: =20+10 -> 30 | U19: NOM | V19: 20 | W19: NOM, BIS | X19: =20+10 -> 30 | AK19: =SUM(E19:AJ19) -> 250
AK20: =SUM(E20:AJ20) -> 0
A23: Kitten+Junior
A24: A Flashpaw's Una Storia Importante | C24: Claudia Haslinger | D24: MCO f 09 25 | E24: NOM, BIS | F24: =20+10 -> 30 | G24: NOM | H24: 20 | AK24: =SUM(E24:AJ24) -> 50
A25: Daenerys vom Heidenturm*AT | C25: Petra Schöpf | D25: MCO f | I25: NOM | J25: 20 | AK25: =SUM(E25:AJ25) -> 20
A26: Je T'Aime de Roissy Royal | C26: Claudia Haslinger | D26: MCO ns 09 22 | Q26: NOM, BIS | R26: =20+10 -> 30 | S26: NOM, BIS | T26: =20+10 -> 30 | U26: NOM, BIS | V26: =20+10 -> 30 | W26: NOM, BIS | X26: =20+10 -> 30 | AC26: NOM, BIS | AD26: =20+10 -> 30 | AE26: NOM, BIS | AF26: =20+10 -> 30 | AG26: NOM, BIS | AH26: =20+10 -> 30 | AI26: NOM, BIS | AJ26: =20+10 -> 30 | AK26: =SUM(E26:AJ26) -> 240
A27: Aphrodite A Star Coon | C27: Jutta & Franz Fürst | D27: MCO f | Q27: NOM | R27: 20 | U27: NOM | V27: 20 | Y27: NOM | Z27: 20 | AA27: NOM | AB27: 20 | AK27: =SUM(E27:AJ27) -> 80
A28: A Flashpaw's X-Travaganza | C28: Claudia Haslinger | D28: MCO n 09 22 | Y28: NOM | Z28: 20 | AA28: NOM | AB28: 20 | AC28: NOM | AD28: 20 | AE28: NOM, BIS | AF28: 20 | AK28: =SUM(E28:AJ28) -> 80
A29: King of Queens De Roissy Royal | C29: Claudia Haslinger | D29: MCO n 09 24 | AE29: NOM, BIS | AF29: =20+10 -> 30 | AK29: =SUM(E29:AJ29) -> 30
A30: I am on Fire vom Heidenturm*AT | C30: Petra Schöpf | D30: MCO ds 22 | AC30: NOM | AD30: 20 | AE30: NOM | AF30: 20 | AK30: =SUM(E30:AJ30) -> 40
A31: Khaleesi vom Heidenturm | C31: Petra Schöpf | D31: MCO f | AC31: NOM | AD31: 20 | AK31: =SUM(E31:AJ31) -> 20
AK32: =SUM(E32:AJ32) -> 0
A35: IW
A36: NOM | B36: 20
A37: BIS | B37: 10

Sheet Category III.
A1: FELIS HUNGARICA
A2: International winner - Category III. | B2: ='Category I.'!C2 -> 2025
E5: Exhibition
A6: Cat | E6: KKÖ 25.02.02 | G6: KKÖ 25.02.02 | I6: ÖVEK 25.03.01 | K6: Zilina, 25.04.26 | M6: Zilina, 25.04.27 | O6: Ljubljana 25.05.17 | Q6: Ljubljana 25.05.18 | S6: Brno 25.06.14 | U6: Brno 25.06.15 | W6: Kristiansund 25.08.09 | Y6: Kristiansund 25.08.10 | AA6: ÖVEK 25.09.06 | AC6: ÖVEK 25.09.07 | AE6: Alesund 25.09.13 | AG6: Alesund 25.09.14 | AI6: Vinicne 25.09.20 | AK6: Vinicne 25.09.21 | AM6: Celje 25.10.11 | AO6: Celje 25.10.12 | AQ6: BB 25.10.11 | AS6: BB 25.10.12 | AU6: WS 25.10.26 | AW6: Brno 25.11.16 | AY6: ='Category I.'!Y6:Z6 -> #VALUE! | BA6: Total
A7: Name | B7: Reg. Nr. | C7: Owner | D7: EMS | E7: Result | F7: Point | G7: Result | H7: Point | I7: Result | J7: Point | K7: Result | L7: Point | M7: Result | N7: Point | O7: Result | P7: Point | Q7: Result | R7: Point | S7: Result | T7: Point | U7: Result | V7: Point | W7: Result | X7: Point | Y7: Result | Z7: Point | AA7: Result | AB7: Point | AC7: Result | AD7: Point | AE7: Result | AF7: Point | AG7: Result | AH7: Point | AI7: Result | AJ7: Point | AK7: Result | AL7: Point | AM7: Result | AN7: Point | AO7: Result | AP7: Point | AQ7: Result | AR7: Point | AS7: Result | AT7: Point | AU7: Result | AV7: Point | AW7: Result | AX7: Point | AY7: Result | AZ7: Point
A9: Adults
A10: Royal Esprit Blueberry Muffin | C10: Sanja Ivanov & Sergej Reiner | D10: BUR g | K10: NOM, BIS | L10: =20+10 -> 30 | S10: NOM, BIS | T10: =20+10 -> 30 | U10: NOM, BIS | V10: =20+10 -> 30 | AM10: NOM, BIS | AN10: =20+10 -> 30 | AO10: NOM, BIS | AP10: =20+10 -> 30 | BA10: =SUM(E10:AZ10) -> 150
A11: Royal Esprit Cloud Jumper | C11: Sanja Ivanov & Sergej Reiner | D11: BUR c | E11: NOM | F11: 20 | G11: NOM | H11: 20 | O11: NOM, BIS | P11: =20+10 -> 30 | BA11: =SUM(E11:AZ11) -> 70
A12: Ariel Air Force Cat*CZ | C12: Mukli Pálma | D12: BLH g 03 | K12: NOM | L12: 20 | BA12: =SUM(E12:AZ12) -> 20
A13: Royal Esprit Jazz Queen | C13: Sanja Ivanov & Sergej Reiner | D13: BUR n | AI13: NOM | AJ13: 20 | AK13: NOM | AL13: 20 | AM13: NOM | AN13: 20 | BA13: =SUM(E13:AZ13) -> 60
A14: Keyla Sibnib Silver | C14: Katarina Michalová | D14: BLH ns 11 | AS14: NOM, BIS | AT14: =20+10 -> 30 | BA14: =SUM(E14:AZ14) -> 30
A15: Caspian Metallica*S | C15: Katarina Michalová | D15: BLH ns 11 | M15: NOM | N15: 20 | AQ15: NOM, BIS | AR15: =20+10 -> 30 | AS15: NOM, BIS | AT15: =20+10 -> 30 | BA15: =SUM(E15:AZ15) -> 80
BA16: =SUM(E16:AZ16) -> 0
A19: Neuters
A20: Speedy-Paw Helios | C20: Horváth Zoltán | D20: CHA | E20: NOM, BIS | F20: =20+10 -> 30 | G20: NOM, BIS | H20: =20+10 -> 30 | BA20: =SUM(E20:AZ20) -> 60
A21: Alba Regia Elio Roscoe | C21: Andrea Gjoten Sandnes | D21: BUR e | W21: NOM, BIS | X21: =20+10 -> 30 | Y21: NOM, BIS | Z21: =20+10 -> 30 | AE21: NOM, BIS | AF21: =20+10 -> 30 | AG21: NOM, BIS | AH21: =20+10 -> 30 | BA21: =SUM(E21:AZ21) -> 120
BA22: =SUM(E22:AZ22) -> 0
A24: Kitten+Junior
A25: Royal Esprit Twilight Blossom | C25: Sanja Ivanov & Sergej Reiner | D25: BUR n | K25: NOM, BIS | L25: =20+10 -> 30 | M25: NOM, BIS | N25: =20+10 -> 30 | Q25: NOM, BIS | R25: =20+10 -> 30 | BA25: =SUM(E25:AZ25) -> 90
A26: Royal Esprit Jazz Queen | C26: Sanja Ivanov & Sergej Reiner | D26: BUR n | K26: NOM | L26: 20 | M26: NOM | N26: 20 | O26: NOM | P26: 20 | BA26: =SUM(E26:AZ26) -> 60
A27: Royal Esprit First Love | C27: Sanja Ivanov & Sergej Reiner | D27: BUR h | K27: NOM | L27: 20 | M27: NOM, BIS | N27: =20+10 -> 30 | Q27: NOM, BIS | R27: =20+10 -> 30 | BA27: =SUM(E27:AZ27) -> 80
A28: Royal Esprit Hermiona | C28: Sanja Ivanov & Sergej Reiner | D28: BUR b | O28: NOM, BIS | P28: =10+20 -> 30 | S28: NOM, BIS | T28: =10+20 -> 30 | U28: NOM, BIS | V28: =10+20 -> 30 | AM28: NOM, BIS | AN28: =20+10 -> 30 | AO28: NOM, BIS | AP28: =20+10 -> 30 | BA28: =SUM(E28:AZ28) -> 150
A29: Orlando Sideris | C29: Mukli Pálma | D29: BSH c | E29: NOM | F29: 20 | G29: NOM | H29: 20 | I29: NOM, BIS | J29: =10+20 -> 30 | BA29: =SUM(E29:AZ29) -> 70
A30: Mon Cheri von Feuerblume | C30: Mukli Pálma | D30: BSH | M30: NOM | N30: 20 | BA30: =SUM(E30:AZ30) -> 20
A31: Royal Esprit Hot Commander | C31: Sanja Ivanov & Sergej Reiner | D31: BUR b | AA31: NOM, BIS | AB31: =20+10 -> 30 | AC31: NOM, BIS | AD31: =20+10 -> 30 | AI31: NOM, BIS | AJ31: =20+10 -> 30 | AK31: NOM, BIS | AL31: =20+10 -> 30 | BA31: =SUM(E31:AZ31) -> 120
A32: Royal Esprit Mystic Spice | C32: Sanja Ivanov & Sergej Reiner | D32: BUR h | AI32: NOM, BIS | AJ32: =20+10 -> 30 | AK32: NOM, BIS | AL32: =20+10 -> 30 | BA32: =SUM(E32:AZ32) -> 60
A33: Emese Brit Majesty | C33: Mukli Pálma | D33: BLH c 03 | K33: NOM | L33: 20 | M33: NOM | N33: 20 | AC33: NOM | AD33: 20 | AM33: NOM | AN33: 20 | AO33: NOM | AP33: 20 | BA33: =SUM(E33:AZ33) -> 100
A34: Aéba Regia Domina Trix | C34: Sanja Ivanov & Sergej Reiner | D34: BUR c | AU34: NOM | AV34: 20 | BA34: =SUM(E34:AZ34) -> 20
A35: Rose von Feuerblume | C35: Mukli Pálma | D35: BSH c | AW35: NOM | AX35: 20 | BA35: =SUM(E35:AZ35) -> 20
A36: Origo von Feuerblume | C36: Mukli Pálma | D36: BSH j 03 | AW36: NOM | AX36: 20 | BA36: =SUM(E36:AZ36) -> 20
BA37: =SUM(E37:AZ37) -> 0
A40: IW
A41: NOM | B41: 20
A42: BIS | B42: 10

Sheet Category IV.
A1: FELIS HUNGARICA
A2: International winner - Category IV. | B2: ='Category I.'!C2 -> 2025
E5: Exhibition
A6: Cat | E6: Ostrava 01.11 | G6: Ostrava 01.11 | I6: KKÖ 25.02.01 | K6: KKÖ 25.02.01 | M6: Vinicne 2025.02.08 | O6: Vinicne 2025.02.09 | Q6: Warszawa 25.02.15 | S6: Övek 25.03.01 | U6: Övek 25.03.02 | W6: Kutná Hora 25.03.08 | Y6: Kutná Hora 25.03.08 | AA6: Pardubice 25.03.23 | AC6: Pardubice 25.03.23 | AE6: Zilina, 25.04.26 | AG6: Zilina, 25.04.27 | AI6: Ljubljana 25.05.17 | AK6: Ljubljana 25.05.18 | AM6: Karlovy Vary 25.08.31 | AO6: Karlovy Vary 25.08.31 | AQ6: Övek 25.09.06 | AS6: Övek 25.09.07 | AU6: BB 25.10.11 | AW6: Odollená Voda 09.13 | AY6: Odollená Voda 09.13 | BA6: Vinicne 25.09.20 | BC6: Vinicne 25.09.21 | BE6: Liberec 25.09.27 | BG6: Liberec 25.09.28 | BI6: Ostrava 25.10.05 | BK6: Celje 25.10.11 | BM6: Celje 25.10.12 | BO6: BB 25.10.11 | BQ6: FPL 25.10.11 | BS6: FPL 25.10.12 | BU6: BB 25.10.12 | BW6: WS 25.10.26 | BY6: Náchod 25.11.01 | CA6: Náchod 25.11.01 | CC6: Hedensted 25.11.16 | CE6: Brno 25.11.15 | CG6: Brno 25.11.16 | CI6: FFF 25.11,29 | CK6: FFF 25.11.30 | CM6: Olomouc 25.12.06 | CO6: Olomouc 25.12.07 | CQ6: Total
A7: Name | B7: Reg.nr. | C7: Owner | D7: EMS | E7: Result | F7: Point | G7: Result | H7: Point | I7: Result | J7: Point | K7: Result | L7: Point | M7: Result | N7: Point | O7: Result | P7: Point | Q7: Result | R7: Point | S7: Result | T7: Point | U7: Result | V7: Point | W7: Result | X7: Point | Y7: Result | Z7: Point | AA7: Result | AB7: Point | AC7: Result | AD7: Point | AE7: Result | AF7: Point | AG7: Result | AH7: Point | AI7: Result | AJ7: Point | AK7: Result | AL7: Point | AM7: Result | AN7: Point | AO7: Result | AP7: Point | AQ7: Result | AR7: Point | AS7: Result | AT7: Point | AU7: Result | AV7: Point | AW7: Result | AX7: Point | AY7: Result | AZ7: Point | BA7: Result | BB7: Point | BC7: Result | BD7: Point | BE7: Result | BF7: Point | BG7: Result | BH7: Point | BI7: Result | BJ7: Point | BK7: Result | BL7: Point | BM7: Result | BN7: Point | BO7: Result | BP7: Point | BQ7: Result | BR7: Point | BS7: Result | BT7: Point | BU7: Result | BV7: Point | BW7: Result | BX7: Point | BY7: Result | BZ7: Point | CA7: Result | CB7: Point | CC7: Result | CD7: Point | CE7: Result | CF7: Point | CG7: Result | CH7: Point | CI7: Result | CJ7: Point | CK7: Result | CL7: Point | CM7: Result | CN7: Point | CO7: Result | CP7: Point
A9: Adults
A10: Silva Angelus Syrax | C10: Angyal László | D10: CRX n | S10: NOM | T10: 20 | U10: NOM | V10: 20 | AE10: NOM, BIS | AF10: =20+10 -> 30 | AG10: NOM, BIS | AH10: =20+10 -> 30 | AQ10: NOM, BIS | AR10: =20+10 -> 30 | AS10: NOM | AT10: 20 | BK10: NOM, BIS | BL10: =20+10 -> 30 | BM10: NOM, BIS | BN10: =20+10 -> 30 | CE10: NOM | CF10: 20 | CG10: NOM | CH10: 20 | CQ10: =SUM(E10:CP10) -> 250
A11: Hero-In Naked Legends | C11: Petra Safarova | D11: SPH a 32 | AA11: NOM, BIS | AB11: =20+10 -> 30 | AC11: NOM, BIS | AD11: =20+10 -> 30 | BQ11: NOM | BR11: 20 | BS11: NOM | BT11: 20 | BY11: NOM, BIS | BZ11: =20+10 -> 30 | CA11: NOM, BIS | CB11: =20+10 -> 30 | CC11: NOM | CD11: 20 | CI11: NOM, BIS | CJ11: =20+10 -> 30 | CK11: NOM, BIS | CL11: =20+10 -> 30 | CQ11: =SUM(E11:CP11) -> 240
A12: Silva Angelus Flower of Hope | C12: Angyal László | D12: CRX b 09 | AE12: NOM | AF12: 20 | AG12: NOM | AH12: 20 | CQ12: =SUM(E12:CP12) -> 40
A13: SI*Raul's Bajka | C13: Katarína Báliková | D13: DRX b 09 24 | W13: NOM | X13: 20 | Y13: NOM | Z13: 20 | CQ13: =SUM(E13:CP13) -> 40
A14: Iwka Porigon, SK | C14: Zuzana Franková | D14: DRX n 03 24 | AU14: NOM | AV14: 20 | BI14: NOM | BJ14: 20 | CM14: NOM | CN14: 20 | CO14: NOM | CP14: 20 | CQ14: =SUM(E14:CP14) -> 80
CQ15: =SUM(E15:CP15) -> 0
A18: Neuters
A19: Alibi von Bestensee, CZ | C19: Angyal László | D19: CRX h | S19: NOM, BIS | T19: =20+10 -> 30 | U19: NOM, BIS | V19: =20+10 -> 30 | AE19: NOM, BIS | AF19: =20+10 -> 30 | AG19: NOM, BIS | AH19: =20+10 -> 30 | AQ19: NOM, BIS | AR19: =20+10 -> 30 | AS19: NOM, BIS | AT19: =20+10 -> 30 | BK19: NOM, BIS | BL19: =20+10 -> 30 | BM19: NOM | BN19: 20 | CE19: NOM | CF19: 20 | CQ19: =SUM(E19:CP19) -> 250
A20: SI*Raul's Lucky Suk | C20: Helena Sukova | D20: DRX n 09 22 | AM20: NOM, BIS | AN20: =20+10 -> 30 | AO20: NOM, BIS | AP20: =20+10 -> 30 | AW20: NOM | AX20: 20 | AY20: NOM | AZ20: 20 | BE20: NOM, BIS | BF20: =20+10 -> 30 | BG20: NOM, BIS | BH20: =20+10 -> 30 | BW20: NOM | BX20: 20 | CE20: NOM | CF20: 20 | CG20: NOM | CH20: 20 | CQ20: =SUM(E20:CP20) -> 220
CQ21: =SUM(E21:CP21) -> 0
A24: Kitten+Junior
A25: A Flashpaw's Viva La Vida | C25: Claudia Haslinger | D25: RUS | O25: NOM | P25: 20 | CQ25: =SUM(E25:CP25) -> 20
A26: Silva Angelus Syrax | C26: Angyal László | D26: CRX n | I26: NOM, BIS | J26: =20+10 -> 30 | K26: NOM, BIS | L26: =20+10 -> 30 | CQ26: =SUM(E26:CP26) -> 60
A27: Gojmerac Empire Blue Pearl | C27: Patricija Gojmerac | D27: RUS | AE27: NOM, BIS | AF27: =20+10 -> 30 | AG27: NOM, BIS | AH27: =20+10 -> 30 | AI27: NOM, BIS | AJ27: =20+10 -> 30 | AK27: NOM, BIS | AL27: =20+10 -> 30 | BK27: NOM, BIS | BL27: =20+10 -> 30 | BM27: NOM, BIS | BN27: =20+10 -> 30 | CQ27: =SUM(E27:CP27) -> 180
A28: Reach of the Stars Rosa Glauca | C28: Claudia Haslinger | D28: RUS | AS28: NOM | AT28: 20 | BA28: NOM | BB28: 20 | CQ28: =SUM(E28:CP28) -> 40
A29: Rose Blue Roa Glauca | C29: Claudia Haslinger | D29: RUS | AQ29: NOM | AR29: 20 | AS29: NOM, BIS | AT29: =20+10 -> 30 | CQ29: =SUM(E29:CP29) -> 50
A30: Silva Angelus Pamina | C30: Angyal László | D30: CRX f 02 64 | AQ30: NOM, BIS | AR30: =20+10 -> 30 | BC30: NOM, BIS | BD30: =20+10 -> 30 | BK30: NOM | BL30: 20 | BM30: NOM | BN30: 20 | BW30: NOM | BX30: 20 | CG30: NOM | CH30: 20 | CQ30: =SUM(E30:CP30) -> 140
A31: Osiris Mytikas, CZ | C31: Angyal László | D31: CRX a 03 | AQ31: NOM, BIS | AR31: =20+10 -> 30 | AS31: NOM | AT31: 20 | BC31: NOM, BIS | BD31: =20+10 -> 30 | BK31: NOM | BL31: 20 | BM31: NOM | BN31: 20 | CQ31: =SUM(E31:CP31) -> 120
A32: Gemma Luxury Paws | C32: Mukli Pálma | D32: DRX f | BO32: NOM | BP32: 20 | BU32: NOM | BV32: 20 | CQ32: =SUM(E32:CP32) -> 40
A33: Gojmerac Empire Floyd | C33: Patricija Gojmerac | D33: RUS | AI33: NOM, BIS | AJ33: =20+10 -> 30 | AK33: NOM, BIS | AL33: =20+10 -> 30 | AS33: NOM, BIS | AT33: =20+10 -> 30 | CQ33: =SUM(E33:CP33) -> 90
A34: Kamikatze Naked Legends | C34: Petra Safarova | D34: SPH f | BW34: NOM | BX34: 20 | CQ34: =SUM(E34:CP34) -> 20
A35: SI*Raul's Bajka | C35: Katarína Báliková | D35: DRX b 09 24 | E35: NOM | F35: 20 | G35: NOM | H35: 20 | M35: NOM | N35: 20 | Q35: NOM | R35: 20 | CQ35: =SUM(E35:CP35) -> 80
A36: SI*Raul's Sunshine Reaggae | C36: Katarína+Romana Báliková | D36: DRX n 24 | E36: NOM | F36: 20 | G36: NOM, BIS | H36: =20+10 -> 30 | M36: NOM, BIS | N36: =20+10 -> 30 | Q36: NOM | R36: 20 | W36: NOM, BIS | X36: =20+10 -> 30 | Y36: NOM, BIS | Z36: =20+10 -> 30 | AE36: NOM, BIS | AF36: =20+10 -> 30 | AG36: NOM | AH36: 20 | BO36: NOM | BP36: 20 | CQ36: =SUM(E36:CP36) -> 230
A37: Iwka Porigon, SK | C37: Zuzana Franková | D37: DRX n 03 24 | O37: NOM, BIS | P37: =20+10 -> 30 | CQ37: =SUM(E37:CP37) -> 30
CQ38: =SUM(E38:CP38) -> 0
A41: IW
A42: NOM | B42: 20
A43: BIS | B43: 10

Sheet House Cat
A1: FELIS HUNGARICA
A2: International winner - House cats | B2: ='Category I.'!C2 -> 2025
I5: Exhibition
A6: Cat | E6: Warszawa 25.02.15 | G6: Zilina 25.04.26 | I6: Zilina 25.04.27 | K6: Kristiansund 25.08.09 | M6: Kristiansund 25.08.10 | O6: Alesund 25.09.13 | Q6: Alesund 25.09.14 | S6: BB 25.10.11 | U6: BB 25.10.12 | W6: Total
A7: Name | B7: Reg. Nr | C7: Owner | D7: EMS | E7: Result | F7: Point | G7: Result | H7: Point | I7: Result | J7: Point | K7: Result | L7: Point | M7: Result | N7: Point | O7: Result | P7: Point | Q7: Result | R7: Point | S7: Result | T7: Point | U7: Result | V7: Point
A9: HCS
A10: Dnepra's Deadly Worm Goliath | C10: Rasto Stefánik | D10: HCS | I10: NOM | J10: 20 | S10: NOM, BIS | T10: =20+10 -> 30 | U10: NOM, BIS | V10: =20+10 -> 30 | W10: =SUM(E10:V10) -> 80
W11: =SUM(E11:V11) -> 0
W12: =SUM(I12:V12) -> 0
A15: HCL
A16: Mira | C16: Lisa Gjoten Sandnes | D16: HCL | K16: NOM, BIS | L16: =20+10 -> 30 | M16: NOM, BIS | N16: =20+10 -> 30 | O16: NOM, BIS | P16: =20+10 -> 30 | Q16: NOM, BIS | R16: =20+10 -> 30 | W16: =SUM(E16:V16) -> 120
A17: Yaman Rasta | C17: Katarína Báliková | D17: HCL | E17: NOM, BIS | F17: =20+10 -> 30 | G17: NOM, BIS | H17: =20+10 -> 30 | I17: NOM, BIS | J17: =20+10 -> 30 | W17: =SUM(E17:V17) -> 90
W18: =SUM(E18:V18) -> 0
A22: IW
A23: NOM | B23: 20
A24: BIS | B24: 10
