Workbook

Sheet Category I.
A1: FELIS HUNGARICA
A2: National winner - Category I. | B2: 2024
E5: Exhibition
A6: Cat | E6: Bp. 2024.04.06 | G6: Bp. 2023.04.07 | I6: Győr 2024.10.05 | K6: Győr 2024.10.06 | M6: Bp. 2024.12.14 | O6: Bp. 2024.12.15 | Q6: Total
A7: Name | B7: Reg. Nr | C7: Owner | D7: EMS | E7: Result | F7: Point | G7: Result | H7: Point | I7: Result | J7: Point | K7: Result | L7: Point | M7: Result | N7: Point | O7: Result | P7: Point
A9: Adults
A10: SC BRIANNA Ha-Pa-Zu*SK JW | B10: (HU)FH LO 13237 | C10: Zuzana Molnárová | D10: RAG n 03 21 | E10: NOM,BIS,BIC | F10: =20+10+5+1 -> 36 | M10: NOM,BIS | N10: =20+10+1 -> 31 | O10: NOM,BIS | P10: =20+10+2 -> 32 | Q10: =SUM(E10:P10) -> 99
A11: Kventin Angel Soul | B11: (HU)FH LO 13489 | C11: Véghelyi Vilmos | D11: SBI a 21 | E11: NOM | F11: 20 | Q11: =SUM(E11:P11) -> 20
A12: FI*Mimosan Atomic War, JW | B12: (HU)FH LO 15500 | C12: Katarína Báliková | D12: PER n | E12: NOM | F12: 20 | G12: NOM | H12: 20 | I12: NOM,BIS | J12: =20+10+2 -> 32 | K12: NOM,BIS | L12: =20+10+2 -> 32 | M12: NOM,BIS,BIC | N12: =20+10+5+2 -> 37 | O12: NOM,BIS,BIC | P12: =20+10+5+1 -> 36 | Q12: =SUM(E12:P12) -> 177
A13: Earth Angel*UA Amir | B13: (HU)FH LO 15360 | C13: Juhász Aurélia Emese | D13: PER d 33 | E13: NOM | F13: 20 | G13: NOM | H13: 20 | Q13: =SUM(E13:P13) -> 40
A14: Edward Ha-Pa-Zu*SK JW | B14: (HU)FH LO 15063 | C14: Zuzana Molnárová | D14: RAG n 03 | E14: NOM,BIS | F14: =20+10+3 -> 33 | G14: NOM,BIS | H14: =20+10+3 -> 33 | Q14: =SUM(E14:P14) -> 66
A15: Coco Chanel by Black Star*SK | B15: (HU)FH LO 16088 | C15: Katarína Báliková | D15: EXO d | I15: NOM | J15: 20 | K15: NOM | L15: 20 | Q15: =SUM(E15:P15) -> 40
A16: Persiland Blue-Bell | B16: (HU)FH RX 17114 | C16: Juhász Aurélia Emese | D16: PER g | I16: NOM | J16: 20 | K16: NOM | L16: 20 | Q16: =SUM(E16:P16) -> 40
A17: Arabella vom Blütengarten | B17: (HU)FH LO 13225 | C17: Elizabeth & Yvonne Suchan | D17: SBI b | I17: NOM,BIS | J17: =20+10+3 -> 33 | K17: NOM,BIS | L17: =20+10+3 -> 33 | Q17: =SUM(E17:P17) -> 66
A18: Domoszlói-Vadász Dolores | B18: (HU)FH LO 12907 | C18: Juhász Aurélia Emese | D18: PER n 33 | I18: NOM | J18: 20 | K18: NOM | L18: 20 | Q18: =SUM(E18:P18) -> 40
A19: Supersweet Woodstock | B19: (HU)FH RX 16663 | C19: Juhász Aurélia Emese | D19: PER d 33 | I19: NOM | J19: 20 | K19: NOM | L19: 20 | Q19: =SUM(E19:P19) -> 40
A20: Oderie Svetskaya Zabava*BY JW | B20: (HU)FH LO 09174 | C20: Katarína Báliková | D20: EXO a | M20: NOM | N20: 20 | O20: NOM | P20: 20 | Q20: =SUM(E20:P20) -> 40
A21: HU* Ráckevei Drazsé | B21: (HU)FH LO 14702 | C21: Juhász Aurélia Emese | D21: PER f | O21: NOM | P21: 20 | Q21: =SUM(E21:P21) -> 20
A24: Neuters
A25: NW22 SP IC Fedor Fabiosson of Black Star*SK JW DSM | B25: (HU)FH LO 07711 | C25: Janka Melisová | D25: EXO d 03 | E25: NOM | F25: 20 | G25: NOM | H25: 20 | K25: NOM | L25: 20 | Q25: =SUM(E25:P25) -> 60
A26: Alfa Romeo by Black Star*SK | B26: (HU)FH LO 16085 | C26: Janka Melisová | D26: PER n | I26: NOM | J26: 20 | K26: NOM | L26: 20 | M26: NOM,BIS | N26: =20+10 -> 30 | O26: NOM,BIS | P26: =20+10 -> 30 | Q26: =SUM(E26:P26) -> 100
A27: Tiffany Jewel of Black Star*SK | B27: (HU)FH LO12047 | C27: Janka Melisová | D27: PER f 03 24 | I27: NOM | J27: 20 | M27: NOM,BIS | N27: =20+10 -> 30 | O27: NOM,BIS | P27: =20+10 -> 30 | Q27: =SUM(E27:P27) -> 80
A30: Kitten+Junior
A31: Coco Chanel by Black Star*SK | B31: (HU)FH LO 16088 | C31: Katarína Báliková | D31: EXO d | E31: NOM | F31: 20 | G31: NOM | H31: 20 | Q31: =SUM(E31:P31) -> 40
A32: RO*POPDOLLS RAGNAR LODBROK | B32: (HU)FH LO 17046 | C32: Zuzana Molnárová | D32: RAG a 03 | E32: NOM | F32: 20 | G32: NOM | H32: 20 | Q32: =SUM(E32:P32) -> 40
A33: Persiland Blue-Bell | B33: (HU)FH RX 17114 | C33: Juhász Aurélia Emese | D33: PER g | G33: NOM | H33: 20 | Q33: =SUM(E33:P33) -> 20
A34: Bébel J.P. Belmondo by Black Star*SK | B34: (HU)FH LO 16086 | C34: Katarína Báliková | D34: PER n 01 21 62 | G34: NOM | H34: 20 | Q34: =SUM(E34:P34) -> 20
A35: Re-Da Diamond Bonnie | B35: (HU)FH LO 17096 | C35: Juhász Aurélia Emese | D35: PER g 33 | I35: NOM,BIS | J35: =20+10 -> 30 | K35: NOM,BIS | L35: =20+10 -> 30 | Q35: =SUM(E35:P35) -> 60
A36: WabiSabi Doll's Nefertiti | B36: (HU)FH LO 17659 | C36: Ján Kocman | D36: RAG n 03 21 | I36: NOM | J36: 20 | K36: NOM | L36: 20 | M36: NOM | N36: 20 | Q36: =SUM(E36:P36) -> 60
A37: Blue Saphire vom Blütengarten*A | B37: (HU)FH LO 17852 | C37: Elizabeth & Yvonne Suchan | D37: SBI a | I37: NOM | J37: 20 | K37: NOM,BIS | L37: =20+10+3 -> 33 | Q37: =SUM(E37:P37) -> 53
A38: Tigerly vom Blütengarten*A | B38: (HU)FH LO 17853 | C38: Elizabeth & Yvonne Suchan | D38: SBI a 21 | I38: NOM,BIS | J38: =20+10+3 -> 33 | K38: NOM | L38: 20 | Q38: =SUM(E38:P38) -> 53
A39: Vincent van Gogh by Black Star*SK | B39: (HU)FH LO 17778 | C39: Katarína Báliková | D39: PER n | M39: NOM,BIS | N39: =20+10+3 -> 33 | O39: NOM,BIS | P39: =20+10+2 -> 32 | Q39: =SUM(E39:P39) -> 65
A40: Persiland Flame | C40: Juhász Aurélia Emese | D40: PER d 24 | M40: NOM | N40: 20 | O40: NOM | P40: 20 | Q40: =SUM(E40:P40) -> 40
A41: Hieronymus Bosch by Black Star*SK | B41: (HU)FH LO 17780 | C41: Katarína Báliková | D41: PER n 22 | M41: NOM | N41: 20 | Q41: =SUM(E41:P41) -> 20
A42: WabiSabi Doll's NUMBER ONE | B42: HU FH LO 17655 | C42: Ján Kocman | D42: RAG n 03 21 | O42: NOM | P42: 20 | Q42: =SUM(E42:P42) -> 20
A45: NW
A46: NOM | B46: 20
A47: BIS | B47: 10
A48: BIC | B48: 5
A49: BIS ellenfelek (pont/macska) | B49: +1

Sheet Category II. 
A1: FELIS HUNGARICA
A2: National winner - Category II. | B2: ='Category I.'!B2 -> 2024
E5: Exhibition
A6: Cat | E6: ='Category I.'!E6:F6 -> Bp. 2024.04.06 | G6: ='Category I.'!G6:H6 -> Bp. 2023.04.07 | I6: ='Category I.'!I6:J6 -> Győr 2024.10.05 | K6: ='Category I.'!K6:L6 -> Győr 2024.10.06 | M6: ='Category I.'!M6:N6 -> Bp. 2024.12.14 | O6: ='Category I.'!O6:P6 -> Bp. 2024.12.15 | Q6: Total
A7: Name | B7: Reg. Nr | C7: Owner | D7: EMS | E7: Result | F7: Point | G7: Result | H7: Point | I7: Result | J7: Point | K7: Result | L7: Point | M7: Result | N7: Point | O7: Result | P7: Point
A9: Adults
A10: Caspian's Equilibrium JW DVM | B10: (HU) FH LO 04405 | C10: Lenka Belaková | D10: MCO ds 22 | E10: NOM | F10: 20 | G10: NOM | H10: 20 | Q10: =SUM(E10:P10) -> 40
A11: Fallen Angel de Roissy Royal | B11: (HU)FH LO 13240 | C11: Nicole Haslinger | D11: MCO f 22 | G11: NOM | H11: 20 | Q11: =SUM(E11:P11) -> 20
A12: HU*Nordic Verden Panama Geisha | B12: (HU) FH LO 10450 | C12: Cziráki Katalin Virág | D12: NFO n 22 | G12: NOM | H12: 20 | Q12: =SUM(E12:P12) -> 20
A13: X-Factor A Star Coon JW | B13: (HU)FH LO 15581 | C13: Jutta & Franz Fürst | D13: MCO n | I13: NOM | J13: 20 | K13: NOM,BIS | L13: =20+10+2 -> 32 | Q13: =SUM(E13:P13) -> 52
A14: Caspian's Zippy Batman | B14: (HU)FH LO 16911 | C14: Lenka Belaková | D14: MCO n 09 23 | I14: NOM | J14: 20 | Q14: =SUM(E14:P14) -> 20
A15: HU*Nordic Verden Trygg | B15: (HU)FH LO 11760 | C15: Cziráki Katalin Virág | D15: NFO nt 22 | I15: NOM | J15: 20 | Q15: =SUM(E15:P15) -> 20
A16: Caspian's Zippy Batman | B16: (HU)FH LO 16911 | C16: Lenka Belaková | D16: MCO n 09 23 | K16: NOM | L16: 20 | Q16: =SUM(E16:P16) -> 20
A17: A Flashpaw's Fashion Victim JW | B17: (HU)FH LO 13442 | C17: Jutta & Franz Fürst | D17: MCO ns | K17: NOM | L17: 20 | Q17: =SUM(E17:P17) -> 20
A18: Frozen Eyes Tiffany | B18: (HU) FH LO 12267 | C18: Czobor-Szakály Katalin | D18: MCO f | O18: NOM | P18: 20 | Q18: =SUM(E18:P18) -> 20
A21: Neuters
A22: HR*Felis Admiranda Porsche | B22: (HU)FH LO 10752 | C22: Anja Fazlić Duh & Semsudin Fazlic | D22: MCO n | E22: NOM | F22: 20 | Q22: =SUM(E22:P22) -> 20
A23: A FLASHPAW'S PRINCIPESSA | B23: (HU)FH LO 10092 | C23: Claudia Haslinger | D23: MCO n 09 22 | E23: NOM | F23: 20 | G23: NOM | H23: 20 | M23: NOM | N23: 20 | O23: NOM | P23: 20 | Q23: =SUM(E23:P23) -> 80
A24: HR*Felis Admiranda Witch Of Grich | B24: (HU)FH LO 06509 | C24: Lidija Gulic | D24: MCO f 22 | E24: NOM | F24: 20 | Q24: =SUM(E24:P24) -> 20
A25: HR*Felis Admiranda Kafka | B25: (HU)FH LO 14728 | C25: Natasa Bataia | D25: MCO d 03 22 | G25: NOM | H25: 20 | Q25: =SUM(E25:P25) -> 20
A26: HR*Felis Admiranda Luminata JW | B26: (HU)FH LO 13409 | C26: Anja Fazlić Duh & Semsudin Fazlic | D26: MCO f 03 22 | G26: NOM,BIS | H26: =20+10+1 -> 31 | Q26: =SUM(E26:P26) -> 31
A27: Felis Admiranda Mozart | B27: (HU)FH LO 09089 | C27: Natasa Bataia | D27: MCO d 09 22 | G27: NOM | H27: 20 | Q27: =SUM(E27:P27) -> 20
A28: High Fashion de Roissy Royal,JW | B28: (HU)FH LO 15509 | C28: Claudia Haslinger | D28: MCO fs 09 22 | I28: NOM,BIS | J28: =20+10+1 -> 31 | K28: NOM,BIS | L28: =20+10 -> 30 | M28: NOM,BIS | N28: =20+10+2 -> 32 | O28: NOM,BIS | P28: =20+10+2 -> 32 | Q28: =SUM(E28:P28) -> 125
A29: HR*Felis Admiranda Sissy | B29: (HU)FH LO 15896 | C29: Lidija Gulic | D29: MCO fs 23 | M29: NOM | N29: 20 | O29: NOM | P29: 20 | Q29: =SUM(E29:P29) -> 40
A32: Kitten+Junior
A33: Orca Vanavara | B33: (HU)FH LO 16723 | C33: Zuzana Vargová | D33: NEM n 21 | E33: NOM | F33: 20 | G33: NOM | H33: 20 | Q33: =SUM(E33:P33) -> 40
A34: Caspian's Zippy Batman | B34: (HU)FH LO 16911 | C34: Lenka Belaková | D34: MCO n 09 23 | G34: NOM | H34: 20 | Q34: =SUM(E34:P34) -> 20
A35: HU*Nordic Verden Caroline Ingalls | B35: (HU)FH LO 16343 | C35: Cziráki Katalin Virág | D35: NFO n 22 | G35: NOM | H35: 20 | Q35: =SUM(E35:P35) -> 20
A36: A FLASHPAW'S Un'Emozione Per Sempre | B36: (HU)FH LO 17460 | C36: Claudia Haslinger | D36: MCO n 09 22 | I36: NOM | J36: 20 | K36: NOM | L36: 20 | Q36: =SUM(E36:P36) -> 40
A37: A FLASHPAW'S Una Storia Importante JW | B37: (HU)FH LO 17459 | C37: Claudia Haslinger | D37: MCO f 09 25 | I37: NOM,BIS | J37: =20+10+2 -> 32 | K37: NOM,BIS | L37: =20+10+2 -> 32 | M37: NOM | N37: 20 | O37: NOM,BIS | P37: =20+10+3 -> 33 | Q37: =SUM(E37:P37) -> 117
A38: Brita Nordic Shadow*SK | B38: (HU) FH LO 16971 | C38: Rasto Stefánik | D38: NFO f 03 24 | I38: NOM,BIS | J38: =20+10+2 -> 32 | Q38: =SUM(E38:P38) -> 32
A39: Clementina Nordic Shadow*SK | B39: (HU) FH LO 17768 | C39: Rasto Stefánik | D39: NFO w 62 | I39: NOM | J39: 20 | Q39: =SUM(E39:P39) -> 20
A40: HR*Felis Admiranda Be My Baby | B40: (HU)FH LO 18215 | C40: Lidija Gulic | D40: MCO n 03 | O40: NOM | P40: 20 | Q40: =SUM(E40:P40) -> 20
A41: Zafira A Star Coon | B41: (HU)FH LO 17446 | C41: Jutta & Franz Fürst | D41: MCO ns 22 | O41: NOM | P41: 20 | Q41: =SUM(E41:P41) -> 20
A44: NW
A45: NOM | B45: 20
A46: BIS | B46: 10
A47: BIC | B47: 5
A48: BIS ellenfelek (pont/macska) | B48: +1

Sheet Category III.
A1: FELIS HUNGARICA
A2: National winner - Category III. | B2: ='Category I.'!B2 -> 2024
E5: Exhibition
A6: Cat | E6: ='Category I.'!E6:F6 -> Bp. 2024.04.06 | G6: ='Category I.'!G6:H6 -> Bp. 2023.04.07 | I6: ='Category I.'!I6:J6 -> Győr 2024.10.05 | K6: ='Category I.'!K6:L6 -> Győr 2024.10.06 | M6: ='Category I.'!M6:N6 -> Bp. 2024.12.14 | O6: ='Category I.'!O6:P6 -> Bp. 2024.12.15 | Q6: Total
A7: Name | B7: Reg. Nr. | C7: Owner | D7: EMS | E7: Result | F7: Point | G7: Result | H7: Point | I7: Result | J7: Point | K7: Result | L7: Point | M7: Result | N7: Point | O7: Result | P7: Point
A9: Adults
A10: Chili Pepper of Black Amazon, CZ | B10: (HU) FH LO 11936 | C10: Mukli Pálma | D10: BSH f | E10: NOM | F10: 20 | G10: NOM,BIS | H10: =20+10 -> 30 | Q10: =SUM(E10:P10) -> 50
A11: IT*Lacay Blue Falcon | B11: (HU)FH LO 11325 | C11: Tolna Marianna | D11: CHA | E11: NOM | F11: 20 | G11: NOM | H11: 20 | Q11: =SUM(E11:P11) -> 40
A12: SI*Rexenia Curly Dennis | B12: (HU)FH RX 16486 | C12: Cheng Lu | D12: SRL ns 03 24 | E12: NOM,BIS | F12: =20+10+1 -> 31 | G12: NOM,BIS | H12: =20+10+1 -> 31 | Q12: =SUM(E12:P12) -> 62
A13: Giselle of Charming Brits | B13: (HU)FH LO 18275 | C13: Claudia Putschögl | D13: BSH p | I13: NOM,BIS | J13: =20+10+2 -> 32 | Q13: =SUM(E13:P13) -> 32
A14: Fairy Lunys Danae | B14: (HU)FH LO 11379 | C14: Mukli Pálma | D14: BLH c 03 | I14: NOM | J14: 20 | K14: NOM,BIS | L14: =20+10+2 -> 32 | Q14: =SUM(E14:P14) -> 52
A15: Blue Melody Bizet | B15: (HU) FH LO 16890 | C15: Benkő Benedekné | D15: CHA | I15: NOM | J15: 20 | K15: NOM | L15: 20 | O15: NOM | P15: 20 | Q15: =SUM(E15:P15) -> 60
A16: Zempléni Leopards Amy | B16: (HU)FH LO 15920 | C16: Zempléni Szabolcs | D16: BEN n 24 32 | K16: NOM | L16: 20 | Q16: =SUM(E16:P16) -> 20
A17: Lamberetti's Tomokokusi | B17: (HU)FH LO 18276 | C17: Claudia Putschögl | D17: BSH p | K17: NOM | L17: 20 | Q17: =SUM(E17:P17) -> 20
A18: Izsak Mewo Mewo | B18: (HU)FH LO 15942 | C18: Cheng Lu | D18: BSH ns 11 | M18: NOM | N18: 20 | Q18: =SUM(E18:P18) -> 20
A19: Royal Esprit Blueberry Muffin | B19: (HU)FH LO 16468 | C19: Sanja & Sergej Ivanov | D19: BUR g | M19: NOM,BIS | N19: =20+10+3 -> 33 | O19: NOM,BIS | P19: =20+10+2 -> 32 | Q19: =SUM(E19:P19) -> 65
A22: Neuters
A23: IC IP Chantal Ratiére de Luxe, CZ | B23: (HU)FH LO 01659 | C23: Mukli Pálma | D23: BSH g | E23: NOM,BIS | F23: =20+10 -> 30 | G23: NOM,BIS,BIC | H23: =20+10+5 -> 35 | I23: NOM,BIS | J23: =20+10+2 -> 32 | K23: NOM,BIS | L23: =20+10+1 -> 31 | M23: NOM,BIS | N23: =20+10 -> 30 | O23: NOM,BIS | P23: =20+10 -> 30 | Q23: =SUM(E23:P23) -> 188
A24: Speedy-Paw HELIOS | B24: (HU)FH LO 14933 | C24: Horváth Zoltán | D24: CHA | E24: NOM,BIS | F24: =20+10 -> 30 | I24: NOM,BIS | J24: =20+10 -> 30 | K24: NOM,BIS | L24: =20+10 -> 30 | M24: NOM,BIS | N24: =20+10+1 -> 31 | O24: NOM | P24: 20 | Q24: =SUM(E24:P24) -> 141
A25: Dublin von Feuerblume * HU | B25: (HU)FH LO 13477 | C25: Mukli Pálma | D25: BSC c 02 62 | G25: NOM,BIS | H25: =20+10 -> 30 | Q25: =SUM(E25:P25) -> 30
A26: Meowmar's Oh My Gizmo DSM DSW | B26: (HU)FH LO 03843 | C26: Markéta Bilková | D26: BUR n | I26: NOM | J26: 20 | Q26: =SUM(E26:P26) -> 20
A27: J&Fan Fan MewoMewo | B27: (HU)FH LO 16276 | C27: Cheng Lu | D27: BSH ny 25 | M27: NOM | N27: 20 | O27: NOM | P27: 20 | Q27: =SUM(E27:P27) -> 40
A29: Kitten+Junior
A30: Zempléni Leopards Amy | B30: (HU)FH LO 15920 | C30: Zempléni Szabolcs | D30: BEN n 24 32 | E30: NOM | F30: 20 | G30: NOM | H30: 20 | Q30: =SUM(E30:P30) -> 40
A31: OLA MewoMewo | B31: (HU) FH LO17089 | C31: Cheng Lu | D31: BSH ny 11 | E31: NOM | F31: 20 | G31: NOM | H31: 20 | Q31: =SUM(E31:P31) -> 40
A32: Inna von Feuerblume | B32: (HU)FH LO 15807 | C32: Mukli Pálma | D32: BSH e 02 62 | E32: NOM | F32: 20 | G32: NOM | H32: 20 | Q32: =SUM(E32:P32) -> 40
A33: Julia von Feuerblume | B33: (HU)FH LO 16803 | C33: Mukli Pálma | D33: BSH j 02 62 | E33: NOM | F33: 20 | G33: NOM | H33: 20 | I33: NOM | J33: 20 | K33: NOM | L33: 20 | Q33: =SUM(E33:P33) -> 80
A34: Royal Esprit Fahrenheit | B34: (HU)FH LO 16863 | C34: Sanja & Sergej Ivanov | D34: BUR b | E34: NOM,BIS | F34: =20+10+3 -> 33 | G34: NOM,BIS | H34: =20+10+3 -> 33 | Q34: =SUM(E34:P34) -> 66
A35: Royal Esprit Blueberry Muffin | B35: (HU)FH LO 16468 | C35: Sanja & Sergej Ivanov | D35: BUR g | E35: NOM,BIS,BIC | F35: =20+10+5+3 -> 38 | Q35: =SUM(E35:P35) -> 38
A36: Izsak Mewo Mewo | B36: (HU)FH LO 15942 | C36: Cheng Lu | D36: BSH ns 11 | G36: NOM,BIS | H36: =20+10+3 -> 33 | Q36: =SUM(E36:P36) -> 33
A37: IT* Lotti Della Francigena | B37: (HU)FH LO 17115 | C37: Benkő Benedekné | D37: CHA | G37: NOM | H37: 20 | Q37: =SUM(E37:P37) -> 20
A38: Ladybug von Feuerblume | B38: (HU) FH LO 17126 | C38: Mukli Pálma | D38: BSH c | I38: NOM | J38: 20 | Q38: =SUM(E38:P38) -> 20
A39: Royal Esprit Queen of Magic | B39: (HU) FH LO 17457 | C39: Sanja & Sergej Ivanov | D39: BUR b | I39: NOM,BIS | J39: =20+10+2 -> 32 | K39: NOM,BIS | L39: =20+10+2 -> 32 | M39: NOM | N39: 20 | O39: NOM,BIS | P39: =20+10+2 -> 32 | Q39: =SUM(E39:P39) -> 116
A40: Royal Esprit Cloud Jumper | B40: (HU) FH LO 17314 | C40: Sanja & Sergej Ivanov | D40: BUR e | I40: NOM,BIS,BIC | J40: =20+10+5+2 -> 37 | K40: NOM,BIS,BIC | L40: =20+10+5+2 -> 37 | M40: NOM,BIS,BIC | N40: =20+10+5+2 -> 37 | Q40: =SUM(E40:P40) -> 111
A41: Orlando Sideris PL | B41: (HU) FH LO 17963 | C41: Mukli Pálma | D41: BSH c | K41: NOM | L41: 20 | Q41: =SUM(E41:P41) -> 20
A42: Ursus Pasja *PL | B42: (HU) FH LO 18269 | C42: Mukli Pálma | D42: BSH e | M42: NOM | N42: 20 | O42: NOM | P42: 20 | Q42: =SUM(E42:P42) -> 40
A43: Mon Cheri von Feuerblume | B43: (HU) FH LO 17946 | C43: Mukli Pálma | D43: BSH f | M43: NOM | N43: 20 | O43: NOM | P43: 20 | Q43: =SUM(E43:P43) -> 40
A44: Xabella MewoMewo | B44: (HU)FH LO 18126 | C44: Cheng Lu | D44: BSH ny 11 | M44: NOM | N44: 20 | O44: NOM | P44: 20 | Q44: =SUM(E44:P44) -> 40
A45: Origo von Feuerblume | B45: (HU) FH LO 17958 | C45: Mukli Pálma | D45: BSH j 03 | M45: NOM | N45: 20 | Q45: =SUM(E45:P45) -> 20
A46: Obama von Feuerblume | B46: (HU) FH LO 17954 | C46: Bíró Alexandra Debóra | D46: BSH c | O46: NOM | P46: 20 | Q46: =SUM(E46:P46) -> 20
A49: NW
A50: NOM | B50: 20
A51: BIS | B51: 10
A52: BIC | B52: 5
A53: BIS ellenfelek (pont/macska) | B53: +1

Sheet Category IV.
A1: FELIS HUNGARICA
A2: National winner - Category IV. | B2: ='Category I.'!B2 -> 2024
E5: Exhibition
A6: Cat | E6: ='Category I.'!E6:F6 -> Bp. 2024.04.06 | G6: ='Category I.'!G6:H6 -> Bp. 2023.04.07 | I6: ='Category I.'!I6:J6 -> Győr 2024.10.05 | K6: ='Category I.'!K6:L6 -> Győr 2024.10.06 | M6: ='Category I.'!M6:N6 -> Bp. 2024.12.14 | O6: ='Category I.'!O6:P6 -> Bp. 2024.12.15 | Q6: Total
A7: Name | B7: Reg.nr. | C7: Owner | D7: EMS | E7: Result | F7: Point | G7: Result | H7: Point | I7: Result | J7: Point | K7: Result | L7: Point | M7: Result | N7: Point | O7: Result | P7: Point
A9: Adults
A10: Boyard Esma | B10: (HU)FH LO 15630 | C10: Ekaterina Toptunova | D10: RUS | E10: NOM | F10: 20 | G10: NOM,BIS | H10: =20+10+1 -> 31 | Q10: =SUM(E10:P10) -> 51
A11: Portmans Silva | B11: (HU)FH LO 14072 | C11: Zuzana Molnárová | D11: SPH f 03 | E11: NOM,BIS | F11: =20+10+1 -> 31 | G11: NOM | H11: 20 | K11: NOM | L11: 20 | Q11: =SUM(E11:P11) -> 71
A12: IC Hero-in Naked Legend's*CZ JW | B12: (HU)FH LO 11541 | C12: Petra Safarova | D12: SPH a 32 | E12: NOM,BIS | F12: =20+10+3 -> 33 | G12: NOM | H12: 20 | I12: NOM | J12: 20 | K12: NOM | L12: 20 | M12: NOM,BIS | N12: =20+10+2 -> 32 | O12: NOM,BIS | P12: =20+10+2 -> 32 | Q12: =SUM(E12:P12) -> 157
A13: Imladris Indil Gingerbread | B13: (HU)FH LO 15336 | C13: Harmat Attila | D13: OSH o | E13: NOM | F13: 20 | Q13: =SUM(E13:P13) -> 20
A14: Apocalyptica Pavarotti | B14: (HU)FH LO 15230 | C14: Burst Éva | D14: OSH n 24 | E14: NOM | F14: 20 | G14: NOM | H14: 20 | Q14: =SUM(E14:P14) -> 40
A15: A Flashpaw's Obsession | B15: (HU)FH LO 16331 | C15: Claudia Haslinger | D15: RUS | I15: NOM | J15: 20 | Q15: =SUM(E15:P15) -> 20
A16: Just a Heart of Gold Naked Legend's CZ JW | B16: (HU)FH LO 16151 | C16: Petra Safarová | D16: SPH f 31 | I16: NOM,BIS | J16: =20+10+2 -> 32 | M16: NOM | N16: 20 | O16: NOM,BIS | P16: =20+10+1 -> 31 | Q16: =SUM(E16:P16) -> 83
A17: HU*Shagio-Chen Barack | B17: (HU)FH LO 16297 | C17: Burst Éva | D17: OSH o 24 | K17: NOM | L17: 20 | M17: NOM | N17: 20 | Q17: =SUM(E17:P17) -> 40
A18: Okonor Belphegor | B18: (HU)FH LO 15041 | C18: Németh László | D18: OSH o | M18: NOM | N18: 20 | O18: NOM | P18: 20 | Q18: =SUM(E18:P18) -> 40
A21: Neuters
A22: SC IP Nefrael Elizabeth*UA JW,DSM,DVM | B22: (HU)FH LO 06898 | C22: Petra Safárová | D22: SPH a 33 | E22: NOM,BIS | F22: =20+10 -> 30 | G22: NOM,BIS | H22: =20+10 -> 30 | I22: NOM,BIS | J22: =20+10+1 -> 31 | K22: NOM,BIS | L22: =20+10+1 -> 31 | M22: NOM,BIS | N22: =20+10+1 -> 31 | O22: NOM | P22: 20 | Q22: =SUM(E22:P22) -> 173
A23: Alibi von Bestensee, CZ DSM | B23: (HU) FH LO 10765 | C23: Angyal László | D23: CRX h | I23: NOM | J23: 20 | K23: NOM | L23: 20 | M23: NOM | N23: 20 | O23: NOM,BIS | P23: =20+10+1 -> 31 | Q23: =SUM(E23:P23) -> 91
A26: Kitten+Junior
A27: HU*PannonRex BóBiTa | B27: (HU)FH LO 16657 | C27: Palásti Csilla | D27: CSX n 33 | E27: NOM | F27: 20 | G27: NOM | H27: 20 | Q27: =SUM(E27:P27) -> 40
A28: Fahrenheit Ha-Pa-Zu*SK | B28: (HU)FH LO 16333 | C28: Zuzana Molnárová | D28: SPH n 03 | E28: NOM | F28: 20 | G28: NOM | H28: 20 | Q28: =SUM(E28:P28) -> 40
A29: HU*Shagio-Chen Cérna | B29: (HU)FH LO 17151 | C29: Burst Éva | D29: OSH f 24 | E29: NOM | F29: 20 | Q29: =SUM(E29:P29) -> 20
A30: HU*Shagio-Chen Barack | B30: (HU)FH LO 16297 | C30: Burst Éva | D30: OSH o 24 | E30: NOM | F30: 20 | G30: NOM,BIS | H30: =20+10+3 -> 33 | Q30: =SUM(E30:P30) -> 53
A31: FI*Ballawhane Mystery Man | B31: (HU)FH LO 16970 | C31: Rasto Stefánik | D31: OLH n 24 | E31: NOM | F31: 20 | G31: NOM | H31: 20 | Q31: =SUM(E31:P31) -> 40
A32: Just a Heart of Gold Naked Legend's CZ JW | B32: (HU)FH LO 16151 | C32: Petra Safarová | D32: SPH f 31 | G32: NOM | H32: 20 | Q32: =SUM(E32:P32) -> 20
A33: A Flashpaw's Obsession | B33: (HU)FH LO 16331 | C33: Claudia Haslinger | D33: RUS | G33: NOM | H33: 20 | Q33: =SUM(E33:P33) -> 20
A34: Silva Angelus Syrax | B34: (HU) FH LO 17361 | C34: Angyal László | D34: CRX n | I34: NOM,BIS | J34: =20+10+2 -> 32 | K34: NOM | L34: 20 | M34: NOM | N34: 20 | O34: NOM | P34: 20 | Q34: =SUM(E34:P34) -> 92
A35: HU*Shagio-Chen Camille | B35: (HU) FH LO 17645 | C35: Burst Éva | D35: OSH b 24 | I35: NOM | J35: 20 | K35: NOM | L35: 20 | Q35: =SUM(E35:P35) -> 40
A36: Silva Angelus Flower of Hope | B36: (HU) FH LO 17366 | C36: Angyal László | D36: CRX b 09 | M36: NOM | N36: 20 | O36: NOM | P36: 20 | Q36: =SUM(E36:P36) -> 40
A37: HU*PannonRex CsigaBiga | B37: (HU)FH LO 18175 | C37: Palásti Csilla | D37: CRX f | M37: NOM | N37: 20 | Q37: =SUM(E37:P37) -> 20
A38: HU*PannonRex EmoJi | B38: (HU)FH LO 18277 | C38: Palásti Csilla | D38: CRX f | O38: NOM | P38: 20 | Q38: =SUM(E38:P38) -> 20
A41: NW
A42: NOM | B42: 20
A43: BIS | B43: 10
A44: BIC | B44: 5
A45: BIS ellenfelek (pont/macska) | B45: +1

Sheet House Cat
A1: FELIS HUNGARICA
A2: National winner - House cats | B2: ='Category I.'!B2 -> 2024
E5: Exhibition
A6: Cat | E6: ='Category I.'!E6:F6 -> Bp. 2024.04.06 | G6: ='Category I.'!G6:H6 -> Bp. 2023.04.07 | I6: ='Category I.'!I6:J6 -> Győr 2024.10.05 | K6: ='Category I.'!K6:L6 -> Győr 2024.10.06 | M6: ='Category I.'!M6:N6 -> Bp. 2024.12.14 | O6: ='Category I.'!O6:P6 -> Bp. 2024.12.15 | Q6: Total
A7: Name | B7: Reg. Nr | C7: Owner | D7: EMS | E7: Result | F7: Point | G7: Result | H7: Point | I7: Result | J7: Point | K7: Result | L7: Point | M7: Result | N7: Point | O7: Result | P7: Point
A9: HCS
A10: Dnepra's Deadly Worm Goliath | C10: Rasto Stefánik | D10: HCS | E10: NOM,BIS | F10: =20+10+1 -> 31 | G10: NOM,BIS | H10: =20+10+1 -> 31 | I10: NOM,BIS | J10: =20+10 -> 30 | Q10: =SUM(E10:P10) -> 92
A11: Sl*Dalmatian Princess Severina | C11: Anja Fazlić Duh & Semsudin Fazlic | E11: NOM | F11: 20 | G11: NOM | H11: 20 | Q11: =SUM(E11:P11) -> 40
Q12: =SUM(E12:P12) -> 0
Q13: =SUM(E13:P13) -> 0
A16: HCL
A17: Yaman Rasta | C17: Katarína Báliková | E17: NOM | F17: 20 | G17: NOM,BIS | H17: =20+10+1 -> 31 | I17: NOM,BIS | J17: =20+10+1 -> 31 | K17: NOM,BIS | L17: =20+10+1 -> 31 | M17: NOM,BIS | N17: =20+10+1 -> 31 | O17: NOM | P17: 20 | Q17: =SUM(E17:P17) -> 164
Q18: =SUM(E18:P18) -> 0
A22: NW
A23: NOM | B23: 20
A24: BIS | B24: 10
A25: BIC | B25: 5
A26: BIS ellenfelek (pont/macska) | B26: +1
