Workbook

Sheet Category I.
A1: FELIS HUNGARICA
A2: National winner - Category I. | B2: 2022
E5: Exhibition
A6: Cat | E6: Bp. 2022.04.09 | G6: Bp. 2022.04.10 | I6: Győr 2022.10.15 | K6: Győr 2022.10.16 | M6: Bp. 2022.12.10 | O6: Bp. 2022.12.11 | Q6: Total
A7: Name | B7: Reg. Nr | C7: Owner | D7: EMS | E7: Result | F7: Point | G7: Result | H7: Point | I7: Result | J7: Point | K7: Result | L7: Point | M7: Result | N7: Point | O7: Result | P7: Point
A9: Adults
A10: Imagine Dragon of Black Star*SK JW | B10: (HU)FH LO 08788 | C10: Janka Melisová | D10: EXO f 03 22 | E10: NOM,BIS,BIC | F10: =20+10+5+2 -> 37 | G10: NOM,BIS | H10: =20+10+2 -> 32 | Q10: =SUM(E10:P10) -> 69
A11: CH HU*Charmant-Colour Zeusz | B11: (HU)FH LO 11960 | C11: Medve Nóra | D11: PER e 33 | E11: NOM | F11: 20 | G11: NOM,BIS | H11: =20+10+1 -> 31 | M11: NOM,BIS | N11: =20+10+1 -> 31 | O11: NOM,BIS | P11: =20+10+1 -> 31 | Q11: =SUM(E11:P11) -> 113
A12: CHASE AZURE EYES *PL | B12: (HU)FH LO 13151 | C12: Zuzana Molnárová | D12: RAG a 03 | E12: NOM,BIS | F12: =20+10+1 -> 31 | G12: NOM | H12: 20 | Q12: =SUM(E12:P12) -> 51
A13: Aquamarinedolls Annie Lennox | B13: (HU)FH LO 11988 | C13: Köveskuti Blanka & Tamás | D13: RAG a 03 | E13: NOM | F13: 20 | G13: NOM | H13: 20 | Q13: =SUM(E13:P13) -> 40
A14: PL*Royal Secret Kiara II | B14: (HU)FH LO 13153 | C14: Zuzana Molnárová | D14: RAG n 03 21 | G14: NOM | H14: 20 | Q14: =SUM(E14:P14) -> 20
A15: Ráckevei Díva | B15: (HU)FH LO 09492 | C15: Kisné Muszáj Edit | D15: PER d 33 | I15: NOM | J15: 20 | Q15: =SUM(E15:P15) -> 20
A16: Shiningdolls Michael | B16: (HU)FH LO 12915 | C16: Köveskuti Blanka & Tamás | D16: RAG n 03 | I16: NOM | J16: 20 | Q16: =SUM(E16:P16) -> 20
A17: BRIANNA Ha-Pa-Zu*SK JW | B17: (HU)FH LO 13237 | C17: Zuzana Molnárová | D17: RAG n 03 21 | I17: NOM,BIS | J17: =20+10+3 -> 33 | K17: NOM | L17: 20 | O17: NOM,BIS | P17: =20+10+2 -> 32 | Q17: =SUM(E17:P17) -> 85
A18: Butterfly vom Blütengarten | B18: (HU)FH LO 13218 | C18: Elizabeth & Yvonne Suchan | D18: SBI b | I18: NOM | J18: 20 | K18: NOM | L18: 20 | Q18: =SUM(E18:P18) -> 40
A19: Love Affair of Black Star*SK | B19: (HU)FH LO 09899 | C19: Katarína Báliková | D19: EXO n 03 22 | K19: NOM,BIS | L19: =20+10+3 -> 33 | Q19: =SUM(E19:P19) -> 33
A20: Ráckevei Tiger | B20: (HU)FH LO 12275 | C20: Kisné Muszáj Edit | D20: PER n 24 | K20: NOM | L20: 20 | Q20: =SUM(E20:P20) -> 20
A21: HU*Midnight Hunter Törpilla | B21: (HU)FH LO 12296 | C21: dr. Nagy Cecília | D21: EXO es 02 62 | M21: NOM | N21: 20 | Q21: =SUM(E21:P21) -> 20
A22: Kylie Medicat | B22: (HU)FHLO 11810 | C22: Mirosla Medek | D22: SBI c | M22: NOM,BIS,BIC | N22: =20+10+5+2 -> 37 | Q22: =SUM(E22:P22) -> 37
A23: Kventin Angel Soul | B23: (HU)FH LO 13489 | C23: Véghelyi Vilmos | D23: SBI a 21 | M23: NOM | N23: 20 | O23: NOM | P23: 20 | Q23: =SUM(E23:P23) -> 40
A24: HU*Charmant-Colour Candy | B24: (HU)FH LO 07619 | C24: Medve Nóra | D24: PER g 33 | O24: NOM | P24: 20 | Q24: =SUM(E24:P24) -> 20
A25: Arabella vom Blütengarten | B25: (HU)FH LO 13225 | C25: Elizabeth & Yvonne Suchan | D25: SBI b | O25: NOM | P25: 20 | Q25: =SUM(E25:P25) -> 20
Q26: =SUM(E26:P26) -> 0
A29: Neuters
A30: SP IC Fedor Fabiosson of Black Star*SK JW DSM | B30: (HU)FH LO 07711 | C30: Janka Melisová | D30: EXO d 03 | E30: NOM, BIS | F30: =20+10 -> 30 | G30: NOM,BIS | H30: =20+10 -> 30 | I30: NOM,BIS | J30: =20+10+2 -> 32 | K30: NOM,BIS | L30: =20+10+2 -> 32 | M30: NOM | N30: 20 | O30: NOM | P30: 20 | Q30: =SUM(E30:P30) -> 164
A31: Midnight Hunter Pöttyös Panna | B31: (HU)FH LO 06400 | C31: dr. Nagy Cecília | D31: EXO g 24 | E31: NOM, BIS | G31: NOM,BIS | H31: =20+10 -> 30 | Q31: =SUM(E31:P31) -> 30
A32: Tiffany Jewel of Black Star*SK | B32: (HU)FH LO 12047 | C32: Janka Melisová | D32: PER f 03 24 | I32: NOM | J32: 20 | K32: NOM | L32: 20 | M32: NOM,BIS | N32: =20+10+1 -> 31 | O32: NOM,BIS | P32: =20+10+1 -> 31 | Q32: =SUM(E32:P32) -> 102
A33: BOBBY Ha-Pa-Zu*SK JW | B33: (HU)FH LO 13237 | C33: Zuzana Molnárová | D33: RAG n 03 | I33: NOM | J33: 20 | K33: NOM | L33: 20 | M33: NOM,BIS | N33: =20+10+1 -> 31 | O33: NOM,BIS | P33: =20+10+1 -> 31 | Q33: =SUM(E33:P33) -> 102
Q34: =SUM(E34:P34) -> 0
A37: Kitten+Junior
A38: Aquamarinedolls French Vanilla | B38: (HU)FH LO 12216 | C38: Köveskuti Blanka & Tamás | D38: RAG a 03 | E38: NOM | F38: 20 | G38: NOM,BIS | H38: =20+10 -> 30 | Q38: =SUM(E38:P38) -> 50
A39: HU*Midnight Hunter Bazsalikom | B39: (HU)FH LO 13123 | C39: dr. Nagy Cecília | D39: EXO es 02 62 | G39: NOM,BIS,BIC | H39: =20+10 -> 30 | Q39: =SUM(E39:P39) -> 30
A40: HU*Charmant-Colour Afrohdite | B40: (HU)FH LO14194 | C40: Juhász Aurélia Emese | D40: PER e 33 | I40: NOM | J40: 20 | K40: NOM | L40: 20 | Q40: =SUM(E40:P40) -> 40
A41: IT*OF WILLA DESIRE GINEVRA | B41: (HU)FH LO 14445 | C41: Zuzana Molnárová | D41: RAG f 04 | I41: NOM | J41: 20 | K41: NOM | L41: 20 | M41: NOM | N41: 20 | O41: NOM | P41: 20 | Q41: =SUM(E41:P41) -> 80
A42: Principessa vom Blütengarten*A | B42: (HU)FH LO 14086 | C42: Elizabeth & Yvonne Suchan | D42: SBI a | I42: NOM,BIS | J42: =20+10+2 -> 32 | K42: NOM,BIS | L42: =20+10+2 -> 32 | Q42: =SUM(E42:P42) -> 64
A43: Urs vom Blütengarten*A | B43: (HU)FH LO 14141 | C43: Elizabeth & Yvonne Suchan | D43: SBI a 21 | I43: NOM | J43: 20 | K43: NOM | L43: 20 | O43: NOM | P43: 20 | Q43: =SUM(E43:P43) -> 60
A44: Midnight Hunter Chipicao | B44: (HU)FH LO 14791 | C44: dr. Nagy Cecília | D44: EXO es 21 62 | M44: NOM | N44: 20 | O44: NOM | P44: 20 | Q44: =SUM(E44:P44) -> 40
A45: Aquamarinedolls Zahara | B45: (HU)FH LO 14464 | C45: Köveskuti Blanka & Tamás | D45: RAG n 03 | M45: NOM,BIS | N45: =20+10+2 -> 32 | Q45: =SUM(E45:P45) -> 32
A46: Aquamarinedolls Mirabel | B46: (HU)FH LO 14032 | C46: Köveskuti Blanka & Tamás | D46: RAG a 03 | M46: NOM,BIS | N46: =20+10+1 -> 31 | Q46: =SUM(E46:P46) -> 31
A47: Arabella vom Blütengarten | B47: (HU)FH LO 13225 | C47: Elizabeth & Yvonne Suchan | D47: SBI b | M47: NOM | N47: 20 | Q47: =SUM(E47:P47) -> 20
A48: Kamilla vom Blütengarten*A | B48: (HU)FH LO 14139 | C48: Elizabeth & Yvonne Suchan | D48: SBI c | M48: NOM | N48: 20 | O48: NOM,BIS | P48: =20+10+2 -> 32 | Q48: =SUM(E48:P48) -> 52
A49: Domoszlói-Vadász Eleanor | B49: (HU)FH LO 13514 | C49: Máthé Dorottya | D49: PER n 33 | O49: NOM | P49: 20 | Q49: =SUM(E49:P49) -> 20
A50: Ráckevei Micike | B50: (HU)FH LO 13961 | C50: Kisné Muszáj Edit | D50: PER f 33 | O50: NOM,BIS,BIC | P50: =20+10+5+2 -> 37 | Q50: =SUM(E50:P50) -> 37
Q51: =SUM(E51:P51) -> 0
A54: NW
A55: NOM | B55: 20
A56: BIS | B56: 10
A57: BIC | B57: 5
A58: BIS ellenfelek (pont/macska) | B58: +1

Sheet Category II. 
A1: FELIS HUNGARICA
A2: National winner - Category II. | B2: 2022
E5: Exhibition
A6: Cat | E6: ='Category I.'!E6:F6 -> Bp. 2022.04.09 | G6: ='Category I.'!G6:H6 -> Bp. 2022.04.10 | I6: ='Category I.'!I6:J6 -> Győr 2022.10.15 | K6: ='Category I.'!K6:L6 -> Győr 2022.10.16 | M6: ='Category I.'!M6:N6 -> Bp. 2022.12.10 | O6: ='Category I.'!O6:P6 -> Bp. 2022.12.11 | Q6: Total
A7: Name | B7: Reg. Nr | C7: Owner | D7: EMS | E7: Result | F7: Point | G7: Result | H7: Point | I7: Result | J7: Point | K7: Result | L7: Point | M7: Result | N7: Point | O7: Result | P7: Point
A9: Adults
A10: GIC A Flashpaw's Delightful Zinderella | B10: (HU)FH LO 11463 | C10: Claudia Haslinger | D10: MCO n 09 | E10: NOM | F10: 20 | G10: NOM | H10: 20 | I10: NOM | J10: 20 | K10: NOM | L10: 20 | M10: NOM | N10: 20 | O10: NOM | P10: 20 | Q10: =SUM(E10:P10) -> 120
A11: HR*Felis Admiranda Wintery Platinum | B11: (HU)FH LO 07072 | C11: Lidija Gulic | D11: MCO n 23 | E11: NOM | F11: 20 | G11: NOM | H11: 20 | Q11: =SUM(E11:P11) -> 40
A12: A Flashpaw's Principessa | B12: (HU)FH LO 10092 | C12: Claudia Haslinger | D12: MCO n 09 22 | E12: NOM,BIS | F12: =20+10+3 -> 33 | G12: NOM | H12: 20 | Q12: =SUM(E12:P12) -> 53
A13: Felis Admiranda Mayflower | B13: (HU)FH LO 09633 | C13: Lidija Gulic | D13: MCO ds 23 | E13: NOM | F13: 20 | G13: NOM | H13: 20 | Q13: =SUM(E13:P13) -> 40
A14: Felis Admiranda Muscari | B14: (HU)FH LO 09629 | C14: Lidija Gulic | D14: MCO ds 23 | E14: NOM | F14: 20 | G14: NOM | H14: 20 | Q14: =SUM(E14:P14) -> 40
A15: CH*Thuraya's Flirty Nayeli | B15: (HU)FH LO 09390 | C15: Cziráki Virág | D15: NFO n 22 | E15: NOM | F15: 20 | Q15: =SUM(E15:P15) -> 20
A16: HR* Felis Admiranda Porin | B16: (HU)FH LO 11342 | C16: Anja Fazlić Duh & Semsudin Fazlic | D16: MCO n 09 22 | G16: NOM | H16: 20 | Q16: =SUM(E16:P16) -> 20
A17: Queen Latifah A Star Coon | B17: (HU)FH LO 10415 | C17: Jutta & Franz Fürst | D17: MCO f 22 | G17: NOM,BIS | H17: =20+10+3 -> 33 | Q17: =SUM(E17:P17) -> 33
A18: Felis Admiranda William | B18: (HU)FH LO 06771 | C18: Lidija Gulic | D18: MCO n 09 | I18: NOM | J18: 20 | K18: NOM,BIS | L18: =20+10+3 -> 33 | Q18: =SUM(E18:P18) -> 53
A19: Hannibal Lecter of Dragon´s Blood | B19: (HU)FH LO 12914 | C19: Jutta & Franz Fürst | D19: MCO n 22 | I19: NOM,BIS | J19: =20+10+2 -> 32 | K19: NOM | L19: 20 | Q19: =SUM(E19:P19) -> 52
A20: Midnight A Star Coon DSM | B20: (HU)FH LO 09025 | C20: Jutta & Franz Fürst | D20: MCO f 22 | I20: NOM,BIS | J20: =20+10+3 -> 33 | K20: NOM,BIS | L20: =20+10+3 -> 33 | Q20: =SUM(E20:P20) -> 66
A21: Felis Admiranda Para Siempre | B21: (HU)FH LO 10096 | C21: Lidija Gulic | D21: MCO d 03 | I21: NOM | J21: 20 | K21: NOM | L21: 20 | Q21: =SUM(E21:P21) -> 40
A22: Unbelievable A Star Coon | B22: (HU)FH LO 12219 | C22: Jutta & Franz Fürst | D22: MCO fs 22 | I22: NOM | J22: 20 | K22: NOM | L22: 20 | Q22: =SUM(E22:P22) -> 40
A23: OKIE DOKIE OLIMPIAN*RU | B23: (HU)FH LO 13231 | C23: Nicole Haslinger | D23: MCO fs 03 22 | I23: NOM | J23: 20 | K23: NOM | L23: 20 | Q23: =SUM(E23:P23) -> 40
A24: HU*Nordic Verden Trygg | B24: (HU)FH LO 11760 | C24: Cziráki Virág | D24: NFO nt 22 | K24: NOM | L24: 20 | M24: NOM | N24: 20 | Q24: =SUM(E24:P24) -> 40
A25: Dowi Doppo Hammamet Yasmine ,SK JW | B25: (HU)FH LO 13711 | C25: Simona Valentová | D25: MCO n 24 | M25: NOM | N25: 20 | Q25: =SUM(E25:P25) -> 20
A26: A Flashpaw´s Fifty Shades of Grey JW | B26: (HU)FH LO 13443 | C26: Claudia Haslinger | D26: MCO as 09 24 | M26: NOM,BIS,BIC | N26: =20+10+5+3 -> 38 | O26: NOM,BIS | P26: =20+10+3 -> 33 | Q26: =SUM(E26:P26) -> 71
A27: PT*Frozen Lands Winter's Waltz | B27: (HU)FH LO 09391 | C27: Cziráki Virág | D27: NFO nt 22 | M27: NOM | N27: 20 | Q27: =SUM(E27:P27) -> 20
A28: HU*Gallifrey's Hattie Shaw | B28: (HU)FH LO 12740 | C28: Slobodanka Kuzman | D28: NFO w 64 | M28: NOM | N28: 20 | Q28: =SUM(E28:P28) -> 20
A29: A Flashpaw´s Fashion Victim | B29: (HU)FH LO 13442 | C29: Jutta & Franz Fürst | D29: MCO ns | O29: NOM | P29: 20 | Q29: =SUM(E29:P29) -> 20
Q30: =SUM(E30:P30) -> 0
A33: Neuters
A34: GIC Felis Admiranda Cuba | B34: (HU)FH LO 05638 | C34: Lidija Gulic | D34: MCO n 22 | E34: NOM | F34: 20 | G34: NOM | H34: 20 | Q34: =SUM(E34:P34) -> 40
A35: HR* Felis Admiranda Monte Cristo | B35: (HU)FH LO 09640 | C35: Anja Fazlić Duh & Semsudin Fazlic | D35: MCO ns | E35: NOM | F35: 20 | G35: NOM | H35: 20 | I35: NOM | J35: 20 | K35: NOM | L35: 20 | Q35: =SUM(E35:P35) -> 80
A36: Follow me Sky Beyrouth*CZ | B36: (HU)FH LO 12477 | C36: Alison Spacal | D36: MCO f 22 | I36: NOM,BIS | J36: =20+10+1 -> 31 | K36: NOM,BIS | L36: =20+10+1 -> 31 | Q36: =SUM(E36:P36) -> 62
A37: HR*Felis Admiranda Luminata | B37: (HU)FH LO 13409 | C37: Anja Fazlić Duh & Semsudin Fazlic | D37: MCO f 03 22 | K37: NOM | L37: 20 | M37: NOM,BIS | N37: =20+10+2 -> 32 | O37: NOM,BIS | P37: =20+10+2 -> 32 | Q37: =SUM(E37:P37) -> 84
A38: HR*Felis Admiranda Porsche | B38: (HU)FH LO 10752 | C38: Anja Fazlić Duh & Semsudin Fazlic | D38: MCO n | M38: NOM | N38: 20 | O38: NOM | P38: 20 | Q38: =SUM(E38:P38) -> 40
A39: Felis Admiranda Lord Bayron | B39: (HU)FH LO 13418 | C39: Lidija Gulic | D39: MCO n 23 | O39: NOM | P39: 20 | Q39: =SUM(E39:P39) -> 20
Q40: =SUM(E40:P40) -> 0
A43: Kitten+Junior
A44: Hannibal Lecter of Dragon´s Blood | B44: (HU)FH LO 12914 | C44: Jutta & Franz Fürst | D44: MCO n 22 | E44: NOM | F44: 20 | G44: NOM | H44: 20 | Q44: =SUM(E44:P44) -> 40
A45: A Flashpaw's Destiny | B45: (HU)FH LO 12972 | C45: Claudia Haslinger | D45: MCO n 22 | E45: NOM | F45: 20 | Q45: =SUM(E45:P45) -> 20
A46: Brunnera Hammamet Yasmine | B46: (HU)FH LO 13352 | C46: Simona Valentová | D46: MCO n 09 23 | E46: NOM | F46: 20 | Q46: =SUM(E46:P46) -> 20
A47: Felis Admiranda Queen | B47: (HU)FH LO 13415 | C47: Lidija Gulic | D47: MCO d 22 | E47: NOM | F47: 20 | G47: NOM | H47: 20 | Q47: =SUM(E47:P47) -> 40
A48: Unbelievable A Star Coon | B48: (HU)FH LO 12219 | C48: Jutta & Franz Fürst | D48: MCO fs 22 | E48: NOM,BIS | F48: =20+10+2 -> 32 | G48: NOM,BIS | H48: =20+10+1 -> 31 | Q48: =SUM(E48:P48) -> 63
A49: OKIE DOKIE OLIMPIAN*RU | B49: (HU)FH LO 13231 | C49: Nicole Haslinger | D49: MCO fs 03 22 | E49: NOM,BIS,BIC | F49: =20+10+5+3 -> 38 | G49: NOM,BIS,BIC | H49: =20+10+5+3 -> 38 | Q49: =SUM(E49:P49) -> 76
A50: HU*Pearl of Mecsek L Logan | B50: (HU)FH LO 13263 | C50: Báthori Zsoltné | D50: MCO n 22 | G50: NOM | H50: 20 | Q50: =SUM(E50:P50) -> 20
A51: Umberto Bystra*Pl | B51: (HU)FH LO 14485 | C51: Czobor-Szakály Katalin | D51: MCO n 22 | I51: NOM | J51: 20 | K51: NOM | L51: 20 | Q51: =SUM(E51:P51) -> 40
A52: Game Changer de Roissy Royal | B52: (HU) FH LO 13242 | C52: Claudia Haslinger | D52: MCO n 09 22 | I52: NOM | J52: 20 | K52: NOM | L52: 20 | Q52: =SUM(E52:P52) -> 40
A53: Fallen Angel de Roissy Royal | B53: (HU)FH LO 13240 | C53: Nicole Haslinger | D53: MCO f 22 | I53: NOM | J53: 20 | Q53: =SUM(E53:P53) -> 20
A54: A Flashpaw´s Fashion Victim | B54: (HU)FH LO 13442 | C54: Jutta & Franz Fürst | D54: MCO ns | I54: NOM | J54: 20 | K54: NOM | L54: 20 | Q54: =SUM(E54:P54) -> 40
A55: A Flashpaw´s Fifty Shades of Grey JW | B55: (HU)FH LO 13443 | C55: Claudia Haslinger | D55: MCO as 09 24 | I55: NOM,BIS,BIC | J55: =20+10+5+3 -> 38 | K55: NOM | L55: 20 | Q55: =SUM(E55:P55) -> 58
A56: HU*Shelly's Dream White Angel | B56: (HU)FH LO 14079 | C56: Csákiné Hegedűs Rita | D56: MCO w 62 | I56: NOM,BIS | J56: =20+10+1 -> 31 | Q56: =SUM(E56:P56) -> 31
A57: Dowi Doppo Hammamet Yasmine ,SK JW | B57: (HU)FH LO 13711 | C57: Simona Valentová | D57: MCO n 24 | K57: NOM,BIS,BIC | L57: =20+10+5+3 -> 38 | Q57: =SUM(E57:P57) -> 38
A58: Happy Big Paws Bonnie | B58: (HU)FH LO 14132 | C58: Czobor-Szakály Katalin | D58: MCO a 03 | K58: NOM,BIS | L58: =20+10+1 -> 31 | Q58: =SUM(E58:P58) -> 31
A59: Pearl of Mecsek Loretta | B59: (HU)FH LO 14006 | C59: Báthori Zsoltné | D59: MCO n | M59: NOM | N59: 20 | Q59: =SUM(E59:P59) -> 20
A60: HR*Felis Admiranda Mendel | B60: (HU)FH LO 14726 | C60: Lidija Gulic | D60: MCO n 09 22 | M60: NOM | N60: 20 | O60: NOM | P60: 20 | Q60: =SUM(E60:P60) -> 40
A61: WIEDZMIN Mizar Land*PL | B61: (HU)FH LO 14555 | C61: Zuzana Vargová | D61: NEM ns 03 21 | M61: NOM | N61: 20 | O61: NOM | P61: 20 | Q61: =SUM(E61:P61) -> 40
A62: HR*Felis Admiranda Kafka | B62: (HU)FH LO 14728 | C62: Lidija Gulic | D62: MCO d 03 22 | O62: NOM | P62: 20 | Q62: =SUM(E62:P62) -> 20
Q63: =SUM(E63:P63) -> 0
A66: NW
A67: NOM | B67: 20
A68: BIS | B68: 10
A69: BIC | B69: 5
A70: BIS ellenfelek (pont/macska) | B70: +1

Sheet Category III.
A1: FELIS HUNGARICA
A2: National winner - Category III. | B2: 2022
E5: Exhibition
A6: Cat | E6: ='Category I.'!E6:F6 -> Bp. 2022.04.09 | G6: ='Category I.'!G6:H6 -> Bp. 2022.04.10 | I6: ='Category I.'!I6:J6 -> Győr 2022.10.15 | K6: ='Category I.'!K6:L6 -> Győr 2022.10.16 | M6: ='Category I.'!M6:N6 -> Bp. 2022.12.10 | O6: ='Category I.'!O6:P6 -> Bp. 2022.12.11 | Q6: Total
A7: Name | B7: Reg. Nr. | C7: Owner | D7: EMS | E7: Result | F7: Point | G7: Result | H7: Point | I7: Result | J7: Point | K7: Result | L7: Point | M7: Result | N7: Point | O7: Result | P7: Point
A9: Adults
A10: Luciano British Velvet , CZ | B10: (HU)FH LO 11935 | C10: Mukli Pálma | D10: BSH c 03 | E10: NOM | F10: 20 | Q10: =SUM(E10:P10) -> 20
A11: IC DK Calia cat's Fernando JW | B11: (HU)FH LO 11944 | C11: Christina Busch | D11: BUR b | E11: NOM,BIS | F11: =20+10+2 -> 32 | G11: NOM,BIS | H11: =20+10+1 -> 31 | Q11: =SUM(E11:P11) -> 63
A12: Beleza von Feuerblume *HU | B12: (HU)FH LO 11925 | C12: Mukli Pálma | D12: BSH j 03 | G12: NOM | H12: 20 | Q12: =SUM(E12:P12) -> 20
A13: Prudence Amber Magic La Canela tierna | B13: (HU)FH LO 10899 | C13: Mukli Pálma | D13: BSH g 02 62 | I13: NOM | J13: 20 | K13: NOM | L13: 20 | O13: NOM | P13: 20 | Q13: =SUM(E13:P13) -> 60
A14: Alba Regia Crazy Kiss | B14: (HU)FH LO 11339 | C14: Sanja & Sergej Ivanov | D14: BUR n | I14: NOM | J14: 20 | Q14: =SUM(E14:P14) -> 20
A15: Royal Esprit Orange Power | B15: (HU)FH LO 12755 | C15: Sanja & Sergej Ivanov | D15: BUR d | I15: NOM | J15: 20 | Q15: =SUM(E15:P15) -> 20
A16: Alba Regia Kisbogár | B16: (HU)FH LO 11243 | C16: Sanja & Sergej Ivanov | D16: BUR j | I16: NOM,BIS,BIC | J16: =20+10+5+3 -> 38 | Q16: =SUM(E16:P16) -> 38
A17: Ariel Air Force Cat, CZ | B17: (HU)FH LO 13267 | C17: Mukli Pálma | D17: BLH g 03 | K17: NOM | L17: 20 | M17: NOM | N17: 20 | O17: NOM | P17: 20 | Q17: =SUM(E17:P17) -> 60
A21: Neuters
A22: Meowmar's Oh My Gizmo | B22: (HU)FH LO 03843 | C22: Markéta Bilková | D22: BUR n | E22: NOM,BIS | F22: =20+10 -> 30 | Q22: =SUM(E22:P22) -> 30
A23: IC Chantal Ratiére de Luxe, CZ | B23: (HU)FH LO 01659 | C23: Mukli Pálma | D23: BSH g | I23: NOM,BIS | J23: =20+10 -> 30 | K23: NOM,BIS | L23: =20+10 -> 30 | M23: NOM,BIS | N23: =20+10 -> 30 | O23: NOM,BIS | P23: =20+10 -> 30 | Q23: =SUM(E23:P23) -> 120
Q24: =SUM(E24:P24) -> 0
Q25: =SUM(E25:P25) -> 0
A28: Kitten+Junior
A29: Ariel Air Force Cat, CZ | B29: (HU)FH LO 13267 | C29: Mukli Pálma | D29: BLH g 03 | E29: NOM | F29: 20 | G29: NOM | H29: 20 | M29: NOM | N29: 20 | Q29: =SUM(E29:P29) -> 60
A30: Moye Belle de Petite Pelote | B30: (HU)FH LO 13490 | C30: Christina Busch | D30: BUR h | E30: NOM,BIS,BIC | F30: =20+10+5+2 -> 37 | G30: NOM,BIS,BIC | H30: =20+10+5+2 -> 37 | Q30: =SUM(E30:P30) -> 74
A31: Crystal Cat's Nox | B31: (HU)FH LO 14104 | C31: Dr. Zempléni Szabolcs | D31: BEN n 24 33 | I31: NOM | J31: 20 | K31: NOM | L31: 20 | M31: NOM | N31: 20 | O31: NOM | P31: 20 | Q31: =SUM(E31:P31) -> 80
A32: Malsan Violet Leia JW | B32: (HU)FH LO 14392 | C32: Sanja & Sergej Ivanov | D32: BUR g | I32: NOM,BIS | J32: =20+10+2 -> 32 | Q32: =SUM(E32:P32) -> 32
A33: Alba Regia Psychopet | B33: (HU)FH LO 14401 | C33: Christina Busch | D33: BURg | M33: NOM,BIS,BIC | N33: =20+10+5+1 -> 36 | O33: NOM,BIS,BIC | P33: =20+10+5+1 -> 36 | Q33: =SUM(E33:P33) -> 72
A34: Dublin von Feuerblume * HU | B34: (HU)FH LO 13477 | C34: Mukli Pálma | D34: BSH c 02 62 | O34: NOM | P34: 20 | Q34: =SUM(E34:P34) -> 20
Q35: =SUM(E35:P35) -> 0
Q36: =SUM(E36:P36) -> 0
Q37: =SUM(E37:P37) -> 0
A40: NW
A41: NOM | B41: 20
A42: BIS | B42: 10
A43: BIC | B43: 5
A44: BIS ellenfelek (pont/macska) | B44: +1

Sheet Category IV.
A1: FELIS HUNGARICA
A2: National winner - Category IV. | B2: 2022
E5: Exhibition
A6: Cat | E6: ='Category I.'!E6:F6 -> Bp. 2022.04.09 | G6: ='Category I.'!G6:H6 -> Bp. 2022.04.10 | I6: ='Category I.'!I6:J6 -> Győr 2022.10.15 | K6: ='Category I.'!K6:L6 -> Győr 2022.10.16 | M6: ='Category I.'!M6:N6 -> Bp. 2022.12.10 | O6: ='Category I.'!O6:P6 -> Bp. 2022.12.11 | Q6: Total
A7: Name | B7: Reg.nr. | C7: Owner | D7: EMS | E7: Result | F7: Point | G7: Result | H7: Point | I7: Result | J7: Point | K7: Result | L7: Point | M7: Result | N7: Point | O7: Result | P7: Point
A9: Adults
A10: GIC Alibi von Bestensee, CZ | B10: (HU)FH LO 10765 | C10: Angyal László | D10: CRX h | E10: NOM | F10: 20 | G10: NOM | H10: 20 | I10: NOM | J10: 20 | K10: NOM,BIS | L10: =20+10+3 -> 33 | M10: NOM,BIS | N10: =20+10+3 -> 33 | O10: NOM,BIS | P10: =20+10+3 -> 33 | Q10: =SUM(E10:P10) -> 159
A11: A FLASHPAW´S YOU DRIVE ME CRAZY, JW | B11: (HU)FH LO 11459 | C11: Claudia Haslinger | D11: RUS | E11: NOM | F11: 20 | Q11: =SUM(E11:P11) -> 20
A12: Hero-in Naked Legend's*CZ JW | B12: (HU)FH LO 11541 | C12: Petra Safarova | D12: SPH a 32 | E12: NOM | F12: 20 | I12: NOM,BIS | J12: =20+10+3 -> 33 | K12: NOM,BIS | L12: =20+10+1 -> 31 | M12: NOM,BIS | N12: =20+10+1 -> 31 | O12: NOM,BIS | P12: =20+10+2 -> 32 | Q12: =SUM(E12:P12) -> 147
A13: Okonor Kitrákotty | B13: (HU)FH LO 11723 | C13: Németh László | D13: SIA c | E13: NOM | F13: 20 | K13: NOM | L13: 20 | M13: NOM | N13: 20 | Q13: =SUM(E13:P13) -> 60
A14: Glimmer from my Heart Naked Legend's*CZ JW | B14: (HU)FH LO 10103 | C14: Petra Šafářová | D14: SPH n 32 | G14: NOM,BIS | H14: =20+10+1 -> 31 | Q14: =SUM(E14:P14) -> 31
A15: Silva Angelus F Niobe | B15: (HU)FH LO 12176 | C15: Angyal László | D15: CRX f 03 | I15: NOM | J15: 20 | M15: NOM | N15: 20 | O15: NOM | P15: 20 | Q15: =SUM(E15:P15) -> 60
A16: HU*PannonRex UmpaLumpa | B16: (HU)FH LO 12940 | C16: Palásti Csilla | D16: CRX a 33 | I16: NOM,BIS | J16: =20+10+3 -> 33 | O16: NOM | P16: 20 | Q16: =SUM(E16:P16) -> 53
A17: Wondering Watson of Black Star*SK | B17: (HU)FH LO 12524 | C17: Janka Melisová | D17: DRX n 24 | I17: NOM | J17: 20 | Q17: =SUM(E17:P17) -> 20
A18: Hahn Razdolie*Ru | B18: (HU)FH LO 13786 | C18: Ekaterina Toptunova | D18: RUS | I18: NOM | J18: 20 | K18: NOM | L18: 20 | M18: NOM | N18: 20 | O18: NOM | P18: 20 | Q18: =SUM(E18:P18) -> 80
A19: Okonor Raffaello | B19: (HU)FH LO 09027 | C19: Németh László | D19: OSH w 61 | I19: NOM | J19: 20 | Q19: =SUM(E19:P19) -> 20
A20: Okonor Brutália | B20: (HU)FH LO 12437 | C20: Németh László | D20: SIA q | I20: NOM | J20: 20 | K20: NOM | L20: 20 | Q20: =SUM(E20:P20) -> 40
A21: HU*PannonRex Oriza Triznyák | B21: (HU)FH LO 10405 | C21: Palásti Csilla | D21: CRX a 33 | K21: NOM | L21: 20 | Q21: =SUM(E21:P21) -> 20
A22: GR* Silverine Ysabel | B22: (HU)FH LO 12273 | C22: Patricija Gojmerac | D22: RUS | M22: NOM | N22: 20 | Q22: =SUM(E22:P22) -> 20
A23: PORTMANS SILVA JW | B23: (HU)FH LO 14072 | C23: Zuzana Molnárová | D23: SPH f 03 | O23: NOM | P23: 20 | Q23: =SUM(E23:P23) -> 20
Q24: =SUM(E24:P24) -> 0
A27: Neuters
A28: SP Carl Cox Naked Legend´s.CZ | B28: (HU)FH LO 06897 | C28: Petra Safárová | D28: SPH n | E28: NOM,BIS | F28: =20+10+2 -> 32 | G28: NOM,BIS | H28: =20+10+1 -> 31 | I28: NOM | J28: 20 | K28: NOM | L28: 20 | Q28: =SUM(E28:P28) -> 103
A29: SC Nefrael Elizabeth*UA JW,DSM,DVM | B29: (HU)FH LO 06898 | C29: Petra Safárová | D29: SPH a 33 | E29: NOM | F29: 20 | G29: NOM,BIS | H29: =20+10+1 -> 31 | I29: NOM,BIS | J29: =20+10+1 -> 31 | K29: NOM,BIS | L29: =20+10+1 -> 31 | M29: NOM,BIS | N29: =20+10 -> 30 | O29: NOM,BIS | P29: =20+10 -> 30 | Q29: =SUM(E29:P29) -> 173
A30: Simon Le Bon-Bon of Black Star*SK | B30: (HU)FH LO 11200 | C30: Alena Mehlyová | D30: DRX n | G30: NOM | H30: 20 | I30: NOM,BIS | J30: =20+10+1 -> 31 | K30: NOM,BIS | L30: =20+10+1 -> 31 | M30: NOM | N30: 20 | O30: NOM | P30: 20 | Q30: =SUM(E30:P30) -> 122
A31: Kiara Midnight rain, CZ | B31: (HU)FH LO 14105 | C31: Dr.Zempléni Szabolcs | D31: RUS | I31: NOM | J31: 20 | K31: NOM | L31: 20 | Q31: =SUM(E31:P31) -> 40
Q32: =SUM(E32:P32) -> 0
A35: Kitten+Junior
A36: HU*PannonRex UmpaLumpa | B36: (HU)FH LO 12940 | C36: Palásti Csilla | D36: CRX a 33 | E36: NOM,BIS,BIC | F36: =20+10+1 -> 31 | G36: NOM,BIS,BIC | H36: =20+10+2 -> 32 | Q36: =SUM(E36:P36) -> 63
A37: HU*Shagio-chen Espresso | B37: (HU)FH LO 12410 | C37: Burst Éva | D37: SIA b | E37: NOM | F37: 20 | Q37: =SUM(E37:P37) -> 20
A38: Okonor Brutália | B38: (HU)FH LO 12437 | C38: Németh László | D38: SIA q | E38: NOM | F38: 20 | Q38: =SUM(E38:P38) -> 20
A39: Wondering Watson of Black Star*SK | B39: (HU)FH LO 12524 | C39: Janka Melisová | D39: DRX n 24 | G39: NOM | H39: 20 | Q39: =SUM(E39:P39) -> 20
A40: Courelle's Bellflower | B40: (HU)FH LO 13271 | C40: Harmat Attila | D40: OSH o | G40: NOM,BIS | H40: =20+10+1 -> 31 | Q40: =SUM(E40:P40) -> 31
A41: Okonor Masni | B41: (HU)FH LO 12439 | C41: Burst Éva | D41: SIA q | G41: NOM | H41: 20 | Q41: =SUM(E41:P41) -> 20
A42: Okonor Aldán | B42: (HU)FH LO 13692 | C42: Németh László | D42: CRX d 03 | I42: NOM | J42: 20 | Q42: =SUM(E42:P42) -> 20
A43: A FLASHPAW´S Here I Am | B43: (HU)FH LO 13945 | C43: Claudia Haslinger | D43: RUS | I43: NOM | J43: 20 | Q43: =SUM(E43:P43) -> 20
A44: PORTMANS SILVA JW | B44: (HU)FH LO 14072 | C44: Zuzana Molnárová | D44: SPH f 03 | I44: NOM | J44: 20 | K44: NOM | L44: 20 | Q44: =SUM(E44:P44) -> 40
A45: Caroni Diasamar*PL | B45: (HU)FH LO 14233 | C45: Petra Safárová | D45: SPH f 31 | I45: NOM | J45: 20 | Q45: =SUM(E45:P45) -> 20
A46: Ice Tea Naked Legend's*CZ | B46: (HU)FH LO 14220 | C46: Petra Safárová | D46: SPH n 33 | I46: NOM | J46: 20 | K46: NOM | L46: 20 | M46: NOM,BIS | N46: =20+10+3 -> 33 | O46: NOM,BIS | P46: =20+10+3 -> 33 | Q46: =SUM(E46:P46) -> 106
A47: HU*Shagio-chen Bambi | B47: (HU)FH LO 14422 | C47: Burst Éva | D47: OSH p | I47: NOM,BIS,BIC | J47: =20+10+5+3 -> 38 | K47: NOM | L47: 20 | Q47: =SUM(E47:P47) -> 58
A48: HU*Shagio-chen Sassenach | B48: (HU)FH LO 13476 | C48: Burst Éva | D48: OSH b 25 | I48: NOM,BIS | J48: =20+10+3 -> 33 | Q48: =SUM(E48:P48) -> 33
A49: Infinity Naked Legend's*CZ | B49: (HU)FH LO 14217 | C49: Petra Safárová | D49: SPH n | K49: NOM | L49: 20 | M49: NOM | N49: 20 | Q49: =SUM(E49:P49) -> 40
A50: Okonor Medve Madonna | B50: (HU)FH LO 13547 | C50: Németh László | D50: OSH h | K50: NOM,BIS | L50: =20+10+3 -> 33 | Q50: =SUM(E50:P50) -> 33
A51: HU*Shagio-chen Danilo | B51: (HU)FH LO 14421 | C51: Burst Éva | D51: OSH d 03 | K51: NOM,BIS,BIC | L51: =20+10+5+3 -> 38 | O51: NOM | P51: 20 | Q51: =SUM(E51:P51) -> 58
A52: A FLASHPAW´S J`ADORE | B52: (HU)FH LO 14370 | C52: Claudia Haslinger | D52: RUS | M52: NOM | N52: 20 | O52: NOM | P52: 20 | Q52: =SUM(E52:P52) -> 40
A53: Okonor Mancó | B53: (HU)FH LO 14660 | C53: Németh László | D53: SIA h | M53: NOM | N53: 20 | Q53: =SUM(E53:P53) -> 20
A54: Okonor Héra | B54: (HU)FH LO 14656 | C54: Németh László | D54: CRX f 03 | O54: NOM | P54: 20 | Q54: =SUM(E54:P54) -> 20
Q55: =SUM(E55:P55) -> 0
A58: NW
A59: NOM | B59: 20
A60: BIS | B60: 10
A61: BIC | B61: 5
A62: BIS ellenfelek (pont/macska) | B62: +1

Sheet House Cat
A1: FELIS HUNGARICA
A2: National winner - House cats | B2: 2022
E5: Exhibition
A6: Cat | E6: ='Category I.'!E6:F6 -> Bp. 2022.04.09 | G6: ='Category I.'!G6:H6 -> Bp. 2022.04.10 | I6: ='Category I.'!I6:J6 -> Győr 2022.10.15 | K6: ='Category I.'!K6:L6 -> Győr 2022.10.16 | M6: ='Category I.'!M6:N6 -> Bp. 2022.12.10 | O6: ='Category I.'!O6:P6 -> Bp. 2022.12.11 | Q6: Total
A7: Name | B7: Reg. Nr | C7: Owner | D7: EMS | E7: Result | F7: Point | G7: Result | H7: Point | I7: Result | J7: Point | K7: Result | L7: Point | M7: Result | N7: Point | O7: Result | P7: Point
A9: HCS
A10: Seceru | I10: NOM | J10: 20 | K10: NOM | L10: 20 | Q10: =SUM(E10:P10) -> 40
A11: CHARLIE | C11: Claudia Haslinger | I11: NOM,BIS | J11: =20+10+1 -> 31 | K11: BIS | L11: =20+10+1 -> 31 | M11: NOM,BIS | N11: =20+10+1 -> 31 | O11: NOM,BIS | P11: =20+10+1 -> 31 | Q11: =SUM(E11:P11) -> 124
A12: Yanka | C12: Katarína Báliková | M12: NOM | N12: 20 | Q12: =SUM(E12:P12) -> 20
Q13: =SUM(E13:P13) -> 0
A16: HCL
A17: Anouk Choucroute DSM | C17: Katarína Báliková | I17: NOM,BIS | J17: =20+10+1 -> 31 | K17: NOM | L17: 20 | Q17: =SUM(E17:P17) -> 51
A18: Zázrak Jedi | C18: Katarína Báliková | I18: NOM | J18: 20 | K18: NOM,BIS | L18: =20+10+1 -> 31 | M18: NOM | N18: 20 | O18: NOM,BIS | P18: =20+10+1 -> 31 | Q18: =SUM(E18:P18) -> 102
A22: NW
A23: NOM | B23: 20
A24: BIS | B24: 10
A25: BIC | B25: 5
A26: BIS ellenfelek (pont/macska) | B26: +1
